BEGIN:VCALENDAR
VERSION:2.0
PRODID:-//Friends of Pheasant Branch Conservancy - ECPv6.13.2.1//NONSGML v1.0//EN
CALSCALE:GREGORIAN
METHOD:PUBLISH
X-WR-CALNAME:Friends of Pheasant Branch Conservancy
X-ORIGINAL-URL:https://pheasantbranch.org
X-WR-CALDESC:Events for Friends of Pheasant Branch Conservancy
REFRESH-INTERVAL;VALUE=DURATION:PT1H
X-Robots-Tag:noindex
X-PUBLISHED-TTL:PT1H
BEGIN:VTIMEZONE
TZID:America/Chicago
BEGIN:DAYLIGHT
TZOFFSETFROM:-0600
TZOFFSETTO:-0500
TZNAME:CDT
DTSTART:20260308T080000
END:DAYLIGHT
BEGIN:STANDARD
TZOFFSETFROM:-0500
TZOFFSETTO:-0600
TZNAME:CST
DTSTART:20261101T070000
END:STANDARD
END:VTIMEZONE
BEGIN:VEVENT
DTSTART;TZID=America/Chicago:20260425T090000
DTEND;TZID=America/Chicago:20260425T120000
DTSTAMP:20260422T182236
CREATED:20260219T172924Z
LAST-MODIFIED:20260219T173207Z
UID:8077-1777107600-1777118400@pheasantbranch.org
SUMMARY:Invasive Species Removal Workday
DESCRIPTION:Help remove invasive species this spring.  We’ll use loppers and hand saws to remove honeysuckle and buckthorn to help open up the canopy and provide sunlight and space for more beneficial plants.  This is a great way to get some physical activity in while supporting Pheasant Branch Conservancy. \n\n\n\nSign up for workday HERE
URL:https://pheasantbranch.org/event/invasive-species-removal-workday-15/
CATEGORIES:Restoration Event
END:VEVENT
BEGIN:VEVENT
DTSTART;TZID=America/Chicago:20260425T133000
DTEND;TZID=America/Chicago:20260425T150000
DTSTAMP:20260422T182236
CREATED:20260202T143957Z
LAST-MODIFIED:20260202T144935Z
UID:8010-1777123800-1777129200@pheasantbranch.org
SUMMARY:Friends of Urban Nature (FUN)
DESCRIPTION:Event details to be announced. \nThis is a free\, welcoming\, diverse\, educational\, fun and family friendly program. \nFUN events occur on the 4th Saturdays of the month from 1:30-3pm. \nNo need to register. Meet-up at the Pheasant Branch Conservancy. \nContact 608-698-0104 for information about FUN Bird and Nature Adventures. \nThese events are co-sponsored by Madison FUN partners. See the FUN Facebook\, the Madison Audubon and Friends of Pheasant Branch Conservancy for more activities.
URL:https://pheasantbranch.org/event/friends-of-urban-nature-fun-2/
LOCATION:4864 Pheasant Branch Road\, Middleton\, WI 53562
CATEGORIES:Education Event
ATTACH;FMTTYPE=image/webp:https://pheasantbranch.org/wp-content/uploads/2026/01/FUN-event-image.webp
END:VEVENT
BEGIN:VEVENT
DTSTART;TZID=America/Chicago:20260426T110000
DTEND;TZID=America/Chicago:20260426T140000
DTSTAMP:20260422T182236
CREATED:20260218T190624Z
LAST-MODIFIED:20260408T183815Z
UID:8068-1777201200-1777212000@pheasantbranch.org
SUMMARY:Celebrating Books and Trees
DESCRIPTION:Madison Reading Project and the Friends of Pheasant Branch Conservancy are proud to present Celebrating Books and Trees from 11am to 2pm Sunday\, April 26\, at Orchid Heights Park and the trails of Pheasant Branch Conservancy. \nHighlights of the event include: \n\nDistribution of free environmentally themed books in English and Spanish for pre-K through fifth grade students on the importance of trees*\nDistribution of free potted tree saplings*\nFree ice cream*\nNaturalist-led scavenger hunts\nCity arborist-led tree planting demonstrations\n\n*while supplies last \n 
URL:https://pheasantbranch.org/event/celebrating-books-and-trees/
LOCATION:Orchid Heights Park\, 3960 Valley Ridge Rd.\, Middleton\, WI\, 53562
ATTACH;FMTTYPE=image/jpeg:https://pheasantbranch.org/wp-content/uploads/2026/02/friends-booksandtreeslogo.jpg
END:VEVENT
BEGIN:VEVENT
DTSTART;TZID=America/Chicago:20260503T130000
DTEND;TZID=America/Chicago:20260503T150000
DTSTAMP:20260422T182236
CREATED:20260219T173102Z
LAST-MODIFIED:20260219T173102Z
UID:8079-1777813200-1777820400@pheasantbranch.org
SUMMARY:Invasive Species Removal Workday
DESCRIPTION:Help remove invasive species this spring.  We’ll use loppers and hand saws to remove honeysuckle and buckthorn to help open up the canopy and provide sunlight and space for more beneficial plants.  This is a great way to get some physical activity in while supporting Pheasant Branch Conservancy. \n\n\n\nSign up for workday HERE
URL:https://pheasantbranch.org/event/invasive-species-removal-workday-16/
CATEGORIES:Restoration Event
END:VEVENT
BEGIN:VEVENT
DTSTART;TZID=America/Chicago:20260521T180000
DTEND;TZID=America/Chicago:20260521T190000
DTSTAMP:20260422T182237
CREATED:20260202T142802Z
LAST-MODIFIED:20260202T142803Z
UID:8000-1779386400-1779390000@pheasantbranch.org
SUMMARY:Conservancy Days: Birding by Ear-Warbler Edition with Tim Hansel
DESCRIPTION:This month’s topic: Birding by Ear-Warbler Edition with Tim Hansel \nRegistration is not required\, but preferred—sign up at https://middleton.recdesk.com/Community/Program  \nConservancy Days occur at 6pm on the third Thursday of the month at the Middleton Public Library in the Archer Room\, 7425 Hubbard Ave.
URL:https://pheasantbranch.org/event/conservancy-days-birding-by-ear-warbler-edition-with-tim-hansel/
LOCATION:Middleton Public Library\, 7425 Hubbard Ave\, Middleton\, WI\, 53562
CATEGORIES:Conservancy Days
END:VEVENT
BEGIN:VEVENT
DTSTART;TZID=America/Chicago:20260523T080000
DTEND;TZID=America/Chicago:20260523T170000
DTSTAMP:20260422T182237
CREATED:20260202T144129Z
LAST-MODIFIED:20260202T145015Z
UID:8013-1779523200-1779555600@pheasantbranch.org
SUMMARY:Friends of Urban Nature (FUN)
DESCRIPTION:Event details to be announced. \nThis is a free\, welcoming\, diverse\, educational\, fun and family friendly program. \nFUN events occur on the 4th Saturdays of the month from 1:30-3pm. \nNo need to register. Meet-up at the Pheasant Branch Conservancy. \nContact 608-698-0104 for information about FUN Bird and Nature Adventures. \nThese events are co-sponsored by Madison FUN partners. See the FUN Facebook\, the Madison Audubon and Friends of Pheasant Branch Conservancy for more activities.
URL:https://pheasantbranch.org/event/friends-of-urban-nature-fun-3/
CATEGORIES:Education Event
ATTACH;FMTTYPE=image/webp:https://pheasantbranch.org/wp-content/uploads/2026/01/FUN-event-image.webp
END:VEVENT
BEGIN:VEVENT
DTSTART;VALUE=DATE:20260627
DTEND;VALUE=DATE:20260628
DTSTAMP:20260422T182237
CREATED:20250305T204506Z
LAST-MODIFIED:20260216T142146Z
UID:7413-1782518400-1782604799@pheasantbranch.org
SUMMARY:Prairie Chase Run/Walk
DESCRIPTION:Join us for a fun race through the Conservancy at the 12th annual Prairie Chase Run/Walk. Participants can sign up for a 5K run/walk or a 10K all-terrain race along the trails at Pheasant Branch Conservancy. Registration is $20 for adults and $10 for those 20 and younger. \nFind more information and register at prairiechase.com.
URL:https://pheasantbranch.org/event/prairie-chase-run-walk-3/
LOCATION:Orchid Heights Park\, 3960 Valley Ridge Rd.\, Middleton\, WI\, 53562
ATTACH;FMTTYPE=image/jpeg:https://pheasantbranch.org/wp-content/uploads/2025/03/P6230010.jpg
END:VEVENT
BEGIN:VEVENT
DTSTART;TZID=America/Chicago:20260627T133000
DTEND;TZID=America/Chicago:20260627T150000
DTSTAMP:20260422T182237
CREATED:20260202T144235Z
LAST-MODIFIED:20260202T145049Z
UID:8015-1782567000-1782572400@pheasantbranch.org
SUMMARY:Friends of Urban Nature (FUN)
DESCRIPTION:Event details to be announced. \nThis is a free\, welcoming\, diverse\, educational\, fun and family friendly program. \nFUN events occur on the 4th Saturdays of the month from 1:30-3pm. \nNo need to register. Meet-up at the Pheasant Branch Conservancy. \nContact 608-698-0104 for information about FUN Bird and Nature Adventures. \nThese events are co-sponsored by Madison FUN partners. See the FUN Facebook\, the Madison Audubon and Friends of Pheasant Branch Conservancy for more activities.
URL:https://pheasantbranch.org/event/friends-of-urban-nature-fun-4/
LOCATION:4864 Pheasant Branch Road\, Middleton\, WI 53562
CATEGORIES:Education Event
ATTACH;FMTTYPE=image/webp:https://pheasantbranch.org/wp-content/uploads/2026/01/FUN-event-image.webp
END:VEVENT
BEGIN:VEVENT
DTSTART;TZID=America/Chicago:20260716T180000
DTEND;TZID=America/Chicago:20260716T190000
DTSTAMP:20260422T182237
CREATED:20260202T142923Z
LAST-MODIFIED:20260202T142924Z
UID:8002-1784224800-1784228400@pheasantbranch.org
SUMMARY:Conservancy Days: Wacky Weather & Tree Health with Glen Staosz
DESCRIPTION:This month’s topic: Wacky Weather & Tree Health with Glen Staosz \nRegistration is not required\, but preferred—sign up at https://middleton.recdesk.com/Community/Program  \nConservancy Days occur at 6pm on the third Thursday of the month at the Middleton Public Library in the Archer Room\, 7425 Hubbard Ave.
URL:https://pheasantbranch.org/event/conservancy-days-wacky-weather-tree-health-with-glen-staosz/
LOCATION:Middleton Public Library\, 7425 Hubbard Ave\, Middleton\, WI\, 53562
CATEGORIES:Conservancy Days
END:VEVENT
BEGIN:VEVENT
DTSTART;TZID=America/Chicago:20260725T133000
DTEND;TZID=America/Chicago:20260725T150000
DTSTAMP:20260422T182237
CREATED:20260202T144342Z
LAST-MODIFIED:20260202T145127Z
UID:8017-1784986200-1784991600@pheasantbranch.org
SUMMARY:Friends of Urban Nature (FUN)
DESCRIPTION:Event details to be announced. \nThis is a free\, welcoming\, diverse\, educational\, fun and family friendly program. \nFUN events occur on the 4th Saturdays of the month from 1:30-3pm. \nNo need to register. Meet-up at the Pheasant Branch Conservancy. \nContact 608-698-0104 for information about FUN Bird and Nature Adventures. \nThese events are co-sponsored by Madison FUN partners. See the FUN Facebook\, the Madison Audubon and Friends of Pheasant Branch Conservancy for more activities.
URL:https://pheasantbranch.org/event/friends-of-urban-nature-fun-5/
LOCATION:4864 Pheasant Branch Road\, Middleton\, WI 53562
CATEGORIES:Education Event
ATTACH;FMTTYPE=image/webp:https://pheasantbranch.org/wp-content/uploads/2026/01/FUN-event-image.webp
END:VEVENT
BEGIN:VEVENT
DTSTART;TZID=America/Chicago:20260822T133000
DTEND;TZID=America/Chicago:20260822T150000
DTSTAMP:20260422T182237
CREATED:20260202T144522Z
LAST-MODIFIED:20260202T145209Z
UID:8019-1787405400-1787410800@pheasantbranch.org
SUMMARY:Friends of Urban Nature (FUN)
DESCRIPTION:Event details to be announced. \nThis is a free\, welcoming\, diverse\, educational\, fun and family friendly program. \nFUN events occur on the 4th Saturdays of the month from 1:30-3pm. \nNo need to register. Meet-up at the Pheasant Branch Conservancy. \nContact 608-698-0104 for information about FUN Bird and Nature Adventures. \nThese events are co-sponsored by Madison FUN partners. See the FUN Facebook\, the Madison Audubon and Friends of Pheasant Branch Conservancy for more activities.
URL:https://pheasantbranch.org/event/friends-of-urban-nature-fun-6/
LOCATION:4864 Pheasant Branch Road\, Middleton\, WI 53562
CATEGORIES:Education Event
ATTACH;FMTTYPE=image/webp:https://pheasantbranch.org/wp-content/uploads/2026/01/FUN-event-image.webp
END:VEVENT
BEGIN:VEVENT
DTSTART;TZID=America/Chicago:20260917T180000
DTEND;TZID=America/Chicago:20260917T190000
DTSTAMP:20260422T182237
CREATED:20260318T211813Z
LAST-MODIFIED:20260318T212052Z
UID:8117-1789668000-1789671600@pheasantbranch.org
SUMMARY:Conservancy Days: Prairies and Rain Forests with Paul Ludden
DESCRIPTION:This month’s topic: Prairies and Rain Forests – A photographic journey through different ecosystems with Paul Ludden \nRegistration is not required\, but preferred—sign up at https://middleton.recdesk.com/Community/Program  \nConservancy Days occur at 6pm on the third Thursday of the month at the Middleton Public Library in the Archer Room\, 7425 Hubbard Ave.
URL:https://pheasantbranch.org/event/conservancy-days-prairies-and-rain-forests-with-paul-ludden/
LOCATION:Middleton Public Library\, 7425 Hubbard Ave\, Middleton\, WI\, 53562
CATEGORIES:Conservancy Days
END:VEVENT
BEGIN:VEVENT
DTSTART;TZID=America/Chicago:20260926T133000
DTEND;TZID=America/Chicago:20260926T150000
DTSTAMP:20260422T182237
CREATED:20260202T144621Z
LAST-MODIFIED:20260202T145250Z
UID:8021-1790429400-1790434800@pheasantbranch.org
SUMMARY:Friends of Urban Nature (FUN)
DESCRIPTION:Event details to be announced. \nThis is a free\, welcoming\, diverse\, educational\, fun and family friendly program. \nFUN events occur on the 4th Saturdays of the month from 1:30-3pm. \nNo need to register. Meet-up at the Pheasant Branch Conservancy. \nContact 608-698-0104 for information about FUN Bird and Nature Adventures. \nThese events are co-sponsored by Madison FUN partners. See the FUN Facebook\, the Madison Audubon and Friends of Pheasant Branch Conservancy for more activities.
URL:https://pheasantbranch.org/event/friends-of-urban-nature-fun-7/
LOCATION:4864 Pheasant Branch Road\, Middleton\, WI 53562
CATEGORIES:Education Event
ATTACH;FMTTYPE=image/webp:https://pheasantbranch.org/wp-content/uploads/2026/01/FUN-event-image.webp
END:VEVENT
BEGIN:VEVENT
DTSTART;TZID=America/Chicago:20261024T133000
DTEND;TZID=America/Chicago:20261024T150000
DTSTAMP:20260422T182237
CREATED:20260202T144713Z
LAST-MODIFIED:20260202T145313Z
UID:8023-1792848600-1792854000@pheasantbranch.org
SUMMARY:Friends of Urban Nature (FUN)
DESCRIPTION:Event details to be announced. \nThis is a free\, welcoming\, diverse\, educational\, fun and family friendly program. \nFUN events occur on the 4th Saturdays of the month from 1:30-3pm. \nNo need to register. Meet-up at the Pheasant Branch Conservancy. \nContact 608-698-0104 for information about FUN Bird and Nature Adventures. \nThese events are co-sponsored by Madison FUN partners. See the FUN Facebook\, the Madison Audubon and Friends of Pheasant Branch Conservancy for more activities.
URL:https://pheasantbranch.org/event/friends-of-urban-nature-fun-8/
LOCATION:4864 Pheasant Branch Road\, Middleton\, WI 53562
CATEGORIES:Education Event
ATTACH;FMTTYPE=image/webp:https://pheasantbranch.org/wp-content/uploads/2026/01/FUN-event-image.webp
END:VEVENT
BEGIN:VEVENT
DTSTART;TZID=America/Chicago:20261119T180000
DTEND;TZID=America/Chicago:20261119T190000
DTSTAMP:20260422T182237
CREATED:20260318T212135Z
LAST-MODIFIED:20260318T212135Z
UID:8119-1795111200-1795114800@pheasantbranch.org
SUMMARY:Conservancy Days: Owls of the Conservancy with Caitlyn Schuchhardt
DESCRIPTION:This month’s topic: Owls of the Conservancy with Caitlyn Schuchhardt \nRegistration is not required\, but preferred—sign up at https://middleton.recdesk.com/Community/Program  \nConservancy Days occur at 6pm on the third Thursday of the month at the Middleton Public Library in the Archer Room\, 7425 Hubbard Ave.
URL:https://pheasantbranch.org/event/conservancy-days-owls-of-the-conservancy-with-caitlyn-schuchhardt/
LOCATION:Middleton Public Library\, 7425 Hubbard Ave\, Middleton\, WI\, 53562
CATEGORIES:Conservancy Days
END:VEVENT
BEGIN:VEVENT
DTSTART;TZID=America/Chicago:20261128T133000
DTEND;TZID=America/Chicago:20261128T150000
DTSTAMP:20260422T182237
CREATED:20260202T144804Z
LAST-MODIFIED:20260202T145334Z
UID:8025-1795872600-1795878000@pheasantbranch.org
SUMMARY:Friends of Urban Nature (FUN)
DESCRIPTION:Event details to be announced. \nThis is a free\, welcoming\, diverse\, educational\, fun and family friendly program. \nFUN events occur on the 4th Saturdays of the month from 1:30-3pm. \nNo need to register. Meet-up at the Pheasant Branch Conservancy. \nContact 608-698-0104 for information about FUN Bird and Nature Adventures. \nThese events are co-sponsored by Madison FUN partners. See the FUN Facebook\, the Madison Audubon and Friends of Pheasant Branch Conservancy for more activities.
URL:https://pheasantbranch.org/event/friends-of-urban-nature-fun-9/
LOCATION:4864 Pheasant Branch Road\, Middleton\, WI 53562
CATEGORIES:Education Event
ATTACH;FMTTYPE=image/webp:https://pheasantbranch.org/wp-content/uploads/2026/01/FUN-event-image.webp
END:VEVENT
BEGIN:VEVENT
DTSTART;TZID=America/Chicago:20261226T133000
DTEND;TZID=America/Chicago:20261226T153000
DTSTAMP:20260422T182237
CREATED:20260202T144853Z
LAST-MODIFIED:20260202T145357Z
UID:8027-1798291800-1798299000@pheasantbranch.org
SUMMARY:Friends of Urban Nature (FUN)
DESCRIPTION:Event details to be announced. \nThis is a free\, welcoming\, diverse\, educational\, fun and family friendly program. \nFUN events occur on the 4th Saturdays of the month from 1:30-3pm. \nNo need to register. Meet-up at the Pheasant Branch Conservancy. \nContact 608-698-0104 for information about FUN Bird and Nature Adventures. \nThese events are co-sponsored by Madison FUN partners. See the FUN Facebook\, the Madison Audubon and Friends of Pheasant Branch Conservancy for more activities.
URL:https://pheasantbranch.org/event/friends-of-urban-nature-fun-10/
LOCATION:4864 Pheasant Branch Road\, Middleton\, WI 53562
CATEGORIES:Education Event
ATTACH;FMTTYPE=image/webp:https://pheasantbranch.org/wp-content/uploads/2026/01/FUN-event-image.webp
END:VEVENT
END:VCALENDAR