BEGIN:VCALENDAR
VERSION:2.0
PRODID:-//Friends of Pheasant Branch Conservancy - ECPv6.13.2.1//NONSGML v1.0//EN
CALSCALE:GREGORIAN
METHOD:PUBLISH
X-WR-CALNAME:Friends of Pheasant Branch Conservancy
X-ORIGINAL-URL:https://pheasantbranch.org
X-WR-CALDESC:Events for Friends of Pheasant Branch Conservancy
REFRESH-INTERVAL;VALUE=DURATION:PT1H
X-Robots-Tag:noindex
X-PUBLISHED-TTL:PT1H
BEGIN:VTIMEZONE
TZID:America/Chicago
BEGIN:DAYLIGHT
TZOFFSETFROM:-0600
TZOFFSETTO:-0500
TZNAME:CDT
DTSTART:20250309T080000
END:DAYLIGHT
BEGIN:STANDARD
TZOFFSETFROM:-0500
TZOFFSETTO:-0600
TZNAME:CST
DTSTART:20251102T070000
END:STANDARD
END:VTIMEZONE
BEGIN:VEVENT
DTSTART;TZID=America/Chicago:20250503T110000
DTEND;TZID=America/Chicago:20250503T133000
DTSTAMP:20260425T233922
CREATED:20250326T174717Z
LAST-MODIFIED:20250326T174857Z
UID:7453-1746270000-1746279000@pheasantbranch.org
SUMMARY:Wander and Wonder: Celebrating Books and Birds
DESCRIPTION:The Friends of Pheasant Branch Conservancy and the Madison Reading Project invite you to this FREE event! \nKids (Pre-K to 5th grade)\, bring your favorite adults\, and adults (parents\, grandparents\, caregivers/care partners)\, bring your kids along for a fun-filled experience. Learn about the importance of birds from naturalists\, select a FREE book to take home\, and enjoy a delicious ice cream treat. \nWe can’t wait to see you at Orchard Heights Park between 11:30am and 1:30pm! Come anytime during this time period.  \nQuestions? Please email education@pheasantbranch.org \n  \n 
URL:https://pheasantbranch.org/event/wander-and-wonder-celebrating-books-and-birds/
LOCATION:Orchid Heights Park\, 3960 Valley Ridge Rd.\, Middleton\, WI\, 53562
CATEGORIES:Education Event
ATTACH;FMTTYPE=application/pdf:https://pheasantbranch.org/wp-content/uploads/2025/03/Books-Birds-English-Final-2025.pdf
END:VEVENT
BEGIN:VEVENT
DTSTART;TZID=America/Chicago:20250511T110000
DTEND;TZID=America/Chicago:20250511T140000
DTSTAMP:20260425T233922
CREATED:20250414T192244Z
LAST-MODIFIED:20250430T122249Z
UID:7511-1746961200-1746972000@pheasantbranch.org
SUMMARY:Feathers\, Trails\, and Tails
DESCRIPTION:Join us at Pheasant Branch Conservancy for an event promoting responsible dog ownership! We encourage courteous behavior from dog owners and their companions\, including adhering to 6-foot leashes\, diligently picking up and properly disposing of dog waste\, and staying on designated trails. These efforts are crucial to protect the delicate habitat of nesting grassland birds and other wildlife that reside off the marked paths within the Conservancy. This event aims to cultivate greater awareness\, support the vital conservation of our natural lands\, and strengthen the valuable connection between people\, their beloved pets\, and the natural world. \nCelebrate Mother’s Day in Nature! \n\nBring the whole family to experience the fun of outdoor activities\, enjoy scenic hiking\, and breathe in the fresh air within the beautiful natural landscape of Pheasant Branch Conservancy.\nDog lovers\, bring your well-behaved\, leashed dog(s) or simply your enthusiasm for canine companions to a joyful dog meetup!\nDiscover the developed trails of the Conservancy on informative guided walks led by knowledgeable Master Naturalist guides.\nEngage in hands-on\, family-friendly activities focused on bird and wildlife conservation.\nTake the opportunity to meet and learn from a Dane County Park Ranger.\n\nMeet up location: Pheasant Branch Conservancy\, Orchid Heights Park Shelter \nThis event is sponsored by: The Friends of Pheasant Branch Conservancy and Lauren Dorothy Billings (Eagle Scout-BSA and UW-Madison student) in cooperation with the City of Middleton and Dane County Parks.
URL:https://pheasantbranch.org/event/feathers-trails-and-tails/
LOCATION:Orchid Heights Park\, 3960 Valley Ridge Rd\, Middleton\, WI\, 53562
CATEGORIES:Education Event
ATTACH;FMTTYPE=image/jpeg:https://pheasantbranch.org/wp-content/uploads/2025/04/fopbc-poster-1-scaled.jpg
END:VEVENT
BEGIN:VEVENT
DTSTART;TZID=America/Chicago:20250516T160000
DTEND;TZID=America/Chicago:20250516T180000
DTSTAMP:20260425T233922
CREATED:20250430T122144Z
LAST-MODIFIED:20250430T122144Z
UID:7538-1747411200-1747418400@pheasantbranch.org
SUMMARY:Eagle Watch Day
DESCRIPTION:The Friends of Pheasant Branch Conservancy will host an Eagle Watch event for all ages to get a close up look at the eagles and eaglet in Pheasant Branch Conservancy from 4pm to 6pm on Friday\, May 16. (Rain date: Saturday\, May 24) \nSpotting scopes and binoculars will be available. \nDirections: The eagle watch platform is on the West Trail of the Conservancy at Trail Marker W23. The platform is below and directly east of the intersection of Gaylord Nelson Road and Pheasant Branch Road in Middleton. Follow trail from the parking lot down to the West Trail and turn left towards the platform. Or enter the Conservancy at Whittlesey Road and follow the path to the platform.  \nParking is limited and the City of Middleton asks that visitors do not park on Pheasant Branch Road. Parking is available on the side streets near the Conservancy.  \nMap of Pheasant Branch Conservancy
URL:https://pheasantbranch.org/event/eagle-watch-day/
LOCATION:WI
CATEGORIES:Education Event
ATTACH;FMTTYPE=image/jpeg:https://pheasantbranch.org/wp-content/uploads/2025/04/Eaglet-4-weeks.jpg
ORGANIZER;CN="Friends of Pheasant Branch Conservancy":MAILTO:copresidents@pheasantbranch.org
END:VEVENT
END:VCALENDAR