BEGIN:VCALENDAR
VERSION:2.0
PRODID:-//Friends of Pheasant Branch Conservancy - ECPv6.13.2.1//NONSGML v1.0//EN
CALSCALE:GREGORIAN
METHOD:PUBLISH
X-ORIGINAL-URL:https://pheasantbranch.org
X-WR-CALDESC:Events for Friends of Pheasant Branch Conservancy
REFRESH-INTERVAL;VALUE=DURATION:PT1H
X-Robots-Tag:noindex
X-PUBLISHED-TTL:PT1H
BEGIN:VTIMEZONE
TZID:America/Chicago
BEGIN:DAYLIGHT
TZOFFSETFROM:-0600
TZOFFSETTO:-0500
TZNAME:CDT
DTSTART:20260308T080000
END:DAYLIGHT
BEGIN:STANDARD
TZOFFSETFROM:-0500
TZOFFSETTO:-0600
TZNAME:CST
DTSTART:20261101T070000
END:STANDARD
END:VTIMEZONE
BEGIN:VEVENT
DTSTART;TZID=America/Chicago:20260115T180000
DTEND;TZID=America/Chicago:20260115T190000
DTSTAMP:20260425T125803
CREATED:20260109T193613Z
LAST-MODIFIED:20260109T204926Z
UID:7954-1768500000-1768503600@pheasantbranch.org
SUMMARY:Conservancy Day: Beavers - Architects of Healthy Streams
DESCRIPTION:Join us for an engaging and eye-opening talk with conservation expert Bob Boucher as we explore the powerful role of beavers – Wisconsin’s extraordinary ecosystem engineers! As a keystone species\, beavers transform landscapes through their dams and canals\, creating dynamic wetlands that stabilize waterways\, reduce flooding\, and reconnect rivers to their floodplains. These wetlands also filter and clean water\, recharge groundwater\, and support steady stream flows. The habitats they create become biodiversity hotspots\, sustaining a remarkable variety of plants and wildlife – comparable in richness to coral reefs and tropical rainforests. Come learn how these remarkable mammals help restore and sustain Wisconsin’s natural ecosystems! \n\nRegistration is not required\, but preferred.\n \n\nNature lovers\, conservation enthusiasts\, and curious minds\, this one’s for you! We look forward to seeing you there!
URL:https://pheasantbranch.org/event/conservancy-day-beavers-architects-of-healthy-streams/
LOCATION:Middleton Public Library\, 7425 Hubbard Ave\, Middleton\, WI\, 53562
CATEGORIES:Conservancy Days,Education Event
ATTACH;FMTTYPE=image/jpeg:https://pheasantbranch.org/wp-content/uploads/2026/01/Conservancy-Talks.jpg
END:VEVENT
BEGIN:VEVENT
DTSTART;TZID=America/Chicago:20260124T133000
DTEND;TZID=America/Chicago:20260124T153000
DTSTAMP:20260425T125803
CREATED:20260112T134915Z
LAST-MODIFIED:20260112T134916Z
UID:7960-1769261400-1769268600@pheasantbranch.org
SUMMARY:Friends of Urban Nature (FUN) Bird and Nature Adventure:  Winter Walk
DESCRIPTION:Join naturalist Kathlean Wolf for a free fun family friendly educational guided walk along the beautiful nature trails in the prairie and woods along the creek. Learn about trees\, plants and animals in winter and ask about what you see! \nNo registration required. Meet at the encampment historical marker. \nThis is a free\, welcoming\, diverse\, educational\, fun and family friendly program. \nMonthly Guided Bird and Nature Adventures are on the 4th Saturday of each month at 1:30 in Pheasant Branch Conservancy. These events are co-sponsored by Madison FUN partners\, Southern Wisconsin Bird Alliance and the Friends of Pheasant Branch Conservancy. 
URL:https://pheasantbranch.org/event/friends-of-urban-nature-fun-bird-and-nature-adventure-winter-walk/
LOCATION:4864 Pheasant Branch Road\, Middleton\, WI 53562
CATEGORIES:Education Event
ATTACH;FMTTYPE=image/jpeg:https://pheasantbranch.org/wp-content/uploads/2026/01/FUN-event-image.jpg
END:VEVENT
END:VCALENDAR