BEGIN:VCALENDAR
VERSION:2.0
PRODID:-//Friends of Pheasant Branch Conservancy - ECPv6.13.2.1//NONSGML v1.0//EN
CALSCALE:GREGORIAN
METHOD:PUBLISH
X-ORIGINAL-URL:https://pheasantbranch.org
X-WR-CALDESC:Events for Friends of Pheasant Branch Conservancy
REFRESH-INTERVAL;VALUE=DURATION:PT1H
X-Robots-Tag:noindex
X-PUBLISHED-TTL:PT1H
BEGIN:VTIMEZONE
TZID:America/Chicago
BEGIN:DAYLIGHT
TZOFFSETFROM:-0600
TZOFFSETTO:-0500
TZNAME:CDT
DTSTART:20260308T080000
END:DAYLIGHT
BEGIN:STANDARD
TZOFFSETFROM:-0500
TZOFFSETTO:-0600
TZNAME:CST
DTSTART:20261101T070000
END:STANDARD
END:VTIMEZONE
BEGIN:VEVENT
DTSTART;TZID=America/Chicago:20260321T090000
DTEND;TZID=America/Chicago:20260321T160000
DTSTAMP:20260425T101200
CREATED:20260205T140722Z
LAST-MODIFIED:20260316T163726Z
UID:8041-1774083600-1774108800@pheasantbranch.org
SUMMARY:CANCELED: Reducing Bird Collisions in Bird Cities
DESCRIPTION:Join us for an in-depth\, hands on training that will cover all the aspects of protecting our resident and migrating birds from hitting windows. This workshop is geared to movers and shakers in the community\, particularly those who manage their Bird City Wisconsin status\, outreach staff or volunteers\, and community members interested in preventing bird window collisions and promoting or enacting city ordinances. \nThis event will be from 9am until 4pm including a 1 hour lunch break. The cost to participate is $25/person\, and includes classroom materials. Participants should bring their own lunch. Registration is limited to 25 people. \nRegister Here \nThis event is Co-hosted by Southern Wisconsin Bird Alliance\, Bird City Wisconsin\, City of Middleton Sustainability Committee\, SOS Save Our Songbirds\, and Friends of Pheasant Branch Conservancy.
URL:https://pheasantbranch.org/event/workshop-reducing-bird-collisions-in-bird-cities/
LOCATION:Kromrey Middle School\, 7009 Donna Dr.\, Middleton\, WI\, 53562\, United States
CATEGORIES:Education Event
ATTACH;FMTTYPE=image/jpeg:https://pheasantbranch.org/wp-content/uploads/2026/02/Bird-City.jpg
END:VEVENT
BEGIN:VEVENT
DTSTART;TZID=America/Chicago:20260328T133000
DTEND;TZID=America/Chicago:20260328T150000
DTSTAMP:20260425T101200
CREATED:20260202T143513Z
LAST-MODIFIED:20260303T194129Z
UID:8007-1774704600-1774710000@pheasantbranch.org
SUMMARY:Friends of Urban Nature (FUN)
DESCRIPTION:Join naturalist Kate Bast for a free fun family friendly guided lesson in forest bathing. \nNo need to register. Meet at the encampment historical marker. \nThis is a free\, welcoming\, diverse\, educational\, fun and family friendly program. \nFUN events occur on the 4th Saturdays of the month from 1:30-3pm. \nContact 608-698-0104 for information about FUN Bird and Nature Adventures. \nThese events are co-sponsored by Madison FUN partners. See the FUN Facebook\, the Madison Audubon and Friends of Pheasant Branch Conservancy for more activities. \n  \n 
URL:https://pheasantbranch.org/event/friends-of-urban-nature-fun/
LOCATION:4864 Pheasant Branch Road\, Middleton\, WI 53562
CATEGORIES:Education Event
ATTACH;FMTTYPE=image/webp:https://pheasantbranch.org/wp-content/uploads/2026/01/FUN-event-image.webp
END:VEVENT
END:VCALENDAR