BEGIN:VCALENDAR
VERSION:2.0
PRODID:-//Friends of Pheasant Branch Conservancy - ECPv6.13.2.1//NONSGML v1.0//EN
CALSCALE:GREGORIAN
METHOD:PUBLISH
X-WR-CALNAME:Friends of Pheasant Branch Conservancy
X-ORIGINAL-URL:https://pheasantbranch.org
X-WR-CALDESC:Events for Friends of Pheasant Branch Conservancy
REFRESH-INTERVAL;VALUE=DURATION:PT1H
X-Robots-Tag:noindex
X-PUBLISHED-TTL:PT1H
BEGIN:VTIMEZONE
TZID:America/Chicago
BEGIN:DAYLIGHT
TZOFFSETFROM:-0600
TZOFFSETTO:-0500
TZNAME:CDT
DTSTART:20260308T080000
END:DAYLIGHT
BEGIN:STANDARD
TZOFFSETFROM:-0500
TZOFFSETTO:-0600
TZNAME:CST
DTSTART:20261101T070000
END:STANDARD
END:VTIMEZONE
BEGIN:VEVENT
DTSTART;TZID=America/Chicago:20260425T133000
DTEND;TZID=America/Chicago:20260425T150000
DTSTAMP:20260425T084035
CREATED:20260202T143957Z
LAST-MODIFIED:20260202T144935Z
UID:8010-1777123800-1777129200@pheasantbranch.org
SUMMARY:Friends of Urban Nature (FUN)
DESCRIPTION:Event details to be announced. \nThis is a free\, welcoming\, diverse\, educational\, fun and family friendly program. \nFUN events occur on the 4th Saturdays of the month from 1:30-3pm. \nNo need to register. Meet-up at the Pheasant Branch Conservancy. \nContact 608-698-0104 for information about FUN Bird and Nature Adventures. \nThese events are co-sponsored by Madison FUN partners. See the FUN Facebook\, the Madison Audubon and Friends of Pheasant Branch Conservancy for more activities.
URL:https://pheasantbranch.org/event/friends-of-urban-nature-fun-2/
LOCATION:4864 Pheasant Branch Road\, Middleton\, WI 53562
CATEGORIES:Education Event
ATTACH;FMTTYPE=image/webp:https://pheasantbranch.org/wp-content/uploads/2026/01/FUN-event-image.webp
END:VEVENT
END:VCALENDAR