BEGIN:VCALENDAR
VERSION:2.0
PRODID:-//Friends of Pheasant Branch Conservancy - ECPv6.13.2.1//NONSGML v1.0//EN
CALSCALE:GREGORIAN
METHOD:PUBLISH
X-WR-CALNAME:Friends of Pheasant Branch Conservancy
X-ORIGINAL-URL:https://pheasantbranch.org
X-WR-CALDESC:Events for Friends of Pheasant Branch Conservancy
REFRESH-INTERVAL;VALUE=DURATION:PT1H
X-Robots-Tag:noindex
X-PUBLISHED-TTL:PT1H
BEGIN:VTIMEZONE
TZID:America/Chicago
BEGIN:DAYLIGHT
TZOFFSETFROM:-0600
TZOFFSETTO:-0500
TZNAME:CDT
DTSTART:20250309T080000
END:DAYLIGHT
BEGIN:STANDARD
TZOFFSETFROM:-0500
TZOFFSETTO:-0600
TZNAME:CST
DTSTART:20251102T070000
END:STANDARD
END:VTIMEZONE
BEGIN:VEVENT
DTSTART;TZID=America/Chicago:20250104T073000
DTEND;TZID=America/Chicago:20250104T213000
DTSTAMP:20260425T161500
CREATED:20241122T131728Z
LAST-MODIFIED:20241122T140828Z
UID:7300-1735975800-1736026200@pheasantbranch.org
SUMMARY:Annual Membership Meeting
DESCRIPTION:Our Annual Membership Meeting will take place on Saturday\, January 4\, 2025\, at Holy Wisdom Monastery in Middleton\, beginning at 7:45am.   \nOur guest speaker will be Professor Ben Zuckerberg with the Department of Forest and Wildlife Ecology at UW-Madison\, who will be discussing the effects of climate change on wildlife. \nWe hope you will join us in person\, or remotely if you prefer. A complimentary continental breakfast will be served.  \nMembers should watch for an e-mail invitation with an RSVP in early December.  
URL:https://pheasantbranch.org/event/annual-membership-meeting-2/
LOCATION:Holy Wisdom Monastery\, 4200 County Road M\, Middleton\, WI\, 53562
CATEGORIES:Membership Meeting
END:VEVENT
END:VCALENDAR