BEGIN:VCALENDAR
VERSION:2.0
PRODID:-//Friends of Pheasant Branch Conservancy - ECPv6.13.2.1//NONSGML v1.0//EN
CALSCALE:GREGORIAN
METHOD:PUBLISH
X-ORIGINAL-URL:https://pheasantbranch.org
X-WR-CALDESC:Events for Friends of Pheasant Branch Conservancy
REFRESH-INTERVAL;VALUE=DURATION:PT1H
X-Robots-Tag:noindex
X-PUBLISHED-TTL:PT1H
BEGIN:VTIMEZONE
TZID:America/Chicago
BEGIN:DAYLIGHT
TZOFFSETFROM:-0600
TZOFFSETTO:-0500
TZNAME:CDT
DTSTART:20220313T080000
END:DAYLIGHT
BEGIN:STANDARD
TZOFFSETFROM:-0500
TZOFFSETTO:-0600
TZNAME:CST
DTSTART:20221106T070000
END:STANDARD
END:VTIMEZONE
BEGIN:VEVENT
DTSTART;TZID=America/Chicago:20220903T090000
DTEND;TZID=America/Chicago:20220903T120000
DTSTAMP:20260425T152706
CREATED:20220815T151348Z
LAST-MODIFIED:20220830T174852Z
UID:5813-1662195600-1662206400@pheasantbranch.org
SUMMARY:Prairie Seed Collection
DESCRIPTION:Join us for native seed collection at the Dane County Unit of Pheasant Branch Conservancy from 9 am to Noon on Saturday September 3rd.  All are welcome\, Please register below! \n  \n \nFill out my LGL Form!
URL:https://pheasantbranch.org/event/prairie-seed-collection/
LOCATION:4864 Pheasant Branch Road\, Middleton\, WI 53562
CATEGORIES:Restoration Event
ATTACH;FMTTYPE=image/jpeg:https://pheasantbranch.org/wp-content/uploads/2022/03/5160FF23-D3CB-45DC-AC98-ED65DACA9E77-scaled.jpeg
ORGANIZER;CN="Friends of Pheasant Branch Conservancy":MAILTO:copresidents@pheasantbranch.org
END:VEVENT
BEGIN:VEVENT
DTSTART;TZID=America/Chicago:20220903T130000
DTEND;TZID=America/Chicago:20220903T150000
DTSTAMP:20260425T152706
CREATED:20220815T143339Z
LAST-MODIFIED:20220829T131319Z
UID:5807-1662210000-1662217200@pheasantbranch.org
SUMMARY:Monarch Tagging in Pheasant Branch Conservancy
DESCRIPTION:The Friends of Pheasant Branch Conservancy are participating in the Monarch Watch monarch butterfly tagging program to help generate data on the insect’s migration and habitat.  We’ll offer four family friendly events where participants will learn techniques for netting and tagging butterflies.  No equipment or experience is necessary\, but if you have your own butterfly net\, feel free to bring it with.  \nEvent Locations: \nThe Bock Forest:  We will meet at the Kiosk located at the Highland Way entrance.  Street parking is available on Highland Way. \nSaturday September 10th\, 1 – 3 pm at the Bock Forest\n  \nDane County Unit:  We will meet at the FOPBC equipment trailer.  Parking is available in the Dane County lot at 4864 Pheasant Branch Rd\, or at Orchid Heights Park. \n Saturday September 3rd\, 1-3 pm at Dane County Unit \nSaturday September 17th\, 1 -3 pm at Dane County Unit\n\n \nPlease register below to assist the Friends in planning for the correct number of participants:\n \nFill out my LGL Form!
URL:https://pheasantbranch.org/event/monarch-tagging-in-pheasant-branch-conservancy-2/
LOCATION:4864 Pheasant Branch Road\, Middleton\, WI 53562
CATEGORIES:Education Event,Restoration Event
ATTACH;FMTTYPE=image/jpeg:https://pheasantbranch.org/wp-content/uploads/2022/08/kathy-servian-Td6SfOMkTzE-unsplash.jpg
ORGANIZER;CN="Friends of Pheasant Branch Conservancy":MAILTO:copresidents@pheasantbranch.org
END:VEVENT
BEGIN:VEVENT
DTSTART;TZID=America/Chicago:20220907T180000
DTEND;TZID=America/Chicago:20220907T193000
DTSTAMP:20260425T152706
CREATED:20220815T141100Z
LAST-MODIFIED:20220815T141100Z
UID:5791-1662573600-1662579000@pheasantbranch.org
SUMMARY:Bock Forest Prairie Seed Collection
DESCRIPTION:Join us Wednesday September 7th\, from 6 to 7:30 pm and Sunday October 9th\, from 10 to noon to collect prairie seed at the Bock Forest unit of Pheasant Branch Conservancy.  The seed we collect will be cleaned and dried and used for future seeding to expand the prairie and increase species diversity. \nWe’ll meet at the kiosk at the Highland Way entrance to the Bock Forest.  Street parking is available on Highland Way.  Volunteers should wear sturdy footwear and my wish to wear pants\, long sleeve shirts\, and gloves. \nPlease help us plan for the appropriate number of participants by registering for these workdays here: \n \nFill out my LGL Form!
URL:https://pheasantbranch.org/event/bock-forest-prairie-seed-collection/
LOCATION:Highland Way Entrance- Bock Forest\, 5672 Highland Way\, Middleton\, WI\, 53562
CATEGORIES:Restoration Event
ATTACH;FMTTYPE=image/jpeg:https://pheasantbranch.org/wp-content/uploads/2022/08/vince-veras-sYaK3SlGwEw-unsplash-scaled.jpg
ORGANIZER;CN="Friends of Pheasant Branch Conservancy":MAILTO:copresidents@pheasantbranch.org
END:VEVENT
BEGIN:VEVENT
DTSTART;TZID=America/Chicago:20220910T130000
DTEND;TZID=America/Chicago:20220910T150000
DTSTAMP:20260425T152706
CREATED:20220815T143339Z
LAST-MODIFIED:20220829T131329Z
UID:5808-1662814800-1662822000@pheasantbranch.org
SUMMARY:Monarch Tagging in Pheasant Branch Conservancy
DESCRIPTION:The Friends of Pheasant Branch Conservancy are participating in the Monarch Watch monarch butterfly tagging program to help generate data on the insect’s migration and habitat.  We’ll offer four family friendly events where participants will learn techniques for netting and tagging butterflies.  No equipment or experience is necessary\, but if you have your own butterfly net\, feel free to bring it with.  \nEvent Locations: \nThe Bock Forest:  We will meet at the Kiosk located at the Highland Way entrance.  Street parking is available on Highland Way. \nSaturday September 10th\, 1 – 3 pm at the Bock Forest\n \nDane County Unit:  We will meet at the FOPBC equipment trailer.  Parking is available in the Dane County lot at 4865 Pheasant Branch Rd\, or at Orchid Heights Park. \nSaturday September 17th\, 1 -3 pm at Dane County Unit\n\n \nPlease register below to assist the Friends in planning for the correct number of participants:\n \nFill out my LGL Form!
URL:https://pheasantbranch.org/event/monarch-tagging-in-pheasant-branch-conservancy-3/
LOCATION:Highland Way Entrance- Bock Forest\, 5672 Highland Way\, Middleton\, WI\, 53562
CATEGORIES:Education Event,Restoration Event
ATTACH;FMTTYPE=image/jpeg:https://pheasantbranch.org/wp-content/uploads/2022/08/kathy-servian-Td6SfOMkTzE-unsplash.jpg
ORGANIZER;CN="Friends of Pheasant Branch Conservancy":MAILTO:copresidents@pheasantbranch.org
END:VEVENT
BEGIN:VEVENT
DTSTART;TZID=America/Chicago:20220917T090000
DTEND;TZID=America/Chicago:20220917T120000
DTSTAMP:20260425T152706
CREATED:20220815T151348Z
LAST-MODIFIED:20220913T200252Z
UID:5815-1663405200-1663416000@pheasantbranch.org
SUMMARY:Prairie Seed Collection
DESCRIPTION:The Friends are looking for volunteers to help collect native seed in the Dane County Unit of Pheasant Branch Conservancy on Saturday\, September 17th from 9am to Noon.  Please complete the form below if you can make it! \n  \n \nFill out my LGL Form!
URL:https://pheasantbranch.org/event/prairie-seed-collection-2/
LOCATION:4864 Pheasant Branch Road\, Middleton\, WI 53562
CATEGORIES:Restoration Event
ATTACH;FMTTYPE=image/jpeg:https://pheasantbranch.org/wp-content/uploads/2019/10/fullsizeoutput_3895.jpeg
ORGANIZER;CN="Friends of Pheasant Branch Conservancy":MAILTO:copresidents@pheasantbranch.org
END:VEVENT
BEGIN:VEVENT
DTSTART;TZID=America/Chicago:20220917T130000
DTEND;TZID=America/Chicago:20220917T150000
DTSTAMP:20260425T152706
CREATED:20220815T143339Z
LAST-MODIFIED:20220829T131341Z
UID:5809-1663419600-1663426800@pheasantbranch.org
SUMMARY:Monarch Tagging in Pheasant Branch Conservancy
DESCRIPTION:The Friends of Pheasant Branch Conservancy are participating in the Monarch Watch monarch butterfly tagging program to help generate data on the insect’s migration and habitat.  We’ll offer four family friendly events where participants will learn techniques for netting and tagging butterflies.  No equipment or experience is necessary\, but if you have your own butterfly net\, feel free to bring it with.  \nEvent Location: \nDane County Unit:  We will meet at the FOPBC equipment trailer.  Parking is available in the Dane County lot at 4865 Pheasant Branch Rd\, or at Orchid Heights Park. \nSaturday September 17th\, 1 -3 pm at Dane County Unit\n\n \nPlease register below to assist the Friends in planning for the correct number of participants:\n \nFill out my LGL Form!
URL:https://pheasantbranch.org/event/monarch-tagging-in-pheasant-branch-conservancy-4/
LOCATION:4864 Pheasant Branch Road\, Middleton\, WI 53562
CATEGORIES:Education Event,Restoration Event
ATTACH;FMTTYPE=image/jpeg:https://pheasantbranch.org/wp-content/uploads/2022/08/kathy-servian-Td6SfOMkTzE-unsplash.jpg
ORGANIZER;CN="Friends of Pheasant Branch Conservancy":MAILTO:copresidents@pheasantbranch.org
END:VEVENT
END:VCALENDAR