BEGIN:VCALENDAR
VERSION:2.0
PRODID:-//Friends of Pheasant Branch Conservancy - ECPv6.13.2.1//NONSGML v1.0//EN
CALSCALE:GREGORIAN
METHOD:PUBLISH
X-WR-CALNAME:Friends of Pheasant Branch Conservancy
X-ORIGINAL-URL:https://pheasantbranch.org
X-WR-CALDESC:Events for Friends of Pheasant Branch Conservancy
REFRESH-INTERVAL;VALUE=DURATION:PT1H
X-Robots-Tag:noindex
X-PUBLISHED-TTL:PT1H
BEGIN:VTIMEZONE
TZID:America/Chicago
BEGIN:DAYLIGHT
TZOFFSETFROM:-0600
TZOFFSETTO:-0500
TZNAME:CDT
DTSTART:20220313T080000
END:DAYLIGHT
BEGIN:STANDARD
TZOFFSETFROM:-0500
TZOFFSETTO:-0600
TZNAME:CST
DTSTART:20221106T070000
END:STANDARD
END:VTIMEZONE
BEGIN:VEVENT
DTSTART;TZID=America/Chicago:20221009T100000
DTEND;TZID=America/Chicago:20221009T120000
DTSTAMP:20260425T140723
CREATED:20220815T141100Z
LAST-MODIFIED:20220815T142315Z
UID:5799-1665309600-1665316800@pheasantbranch.org
SUMMARY:Bock Forest Prairie Seed Collection
DESCRIPTION:Join us Sunday October 9th\, from 10 to noon to collect prairie seed at the Bock Forest unit of Pheasant Branch Conservancy.  The seed we collect will be cleaned and dried and used for future seeding to expand the prairie and increase species diversity. \nWe’ll meet at the kiosk at the Highland Way entrance to the Bock Forest.  Street parking is available on Highland Way.  Volunteers should wear sturdy footwear and my wish to wear pants\, long sleeve shirts\, and gloves. \nPlease help us plan for the appropriate number of participants by registering for these workdays here: \n \nFill out my LGL Form!
URL:https://pheasantbranch.org/event/bock-forest-prairie-seed-collection-2/
LOCATION:Highland Way Entrance- Bock Forest\, 5672 Highland Way\, Middleton\, WI\, 53562
CATEGORIES:Restoration Event
ATTACH;FMTTYPE=image/jpeg:https://pheasantbranch.org/wp-content/uploads/2022/08/karl-heinz-muller-ZvJBEatkqlM-unsplash-scaled.jpg
ORGANIZER;CN="Friends of Pheasant Branch Conservancy":MAILTO:copresidents@pheasantbranch.org
END:VEVENT
END:VCALENDAR