BEGIN:VCALENDAR
VERSION:2.0
PRODID:-//Friends of Pheasant Branch Conservancy - ECPv6.13.2.1//NONSGML v1.0//EN
CALSCALE:GREGORIAN
METHOD:PUBLISH
X-ORIGINAL-URL:https://pheasantbranch.org
X-WR-CALDESC:Events for Friends of Pheasant Branch Conservancy
REFRESH-INTERVAL;VALUE=DURATION:PT1H
X-Robots-Tag:noindex
X-PUBLISHED-TTL:PT1H
BEGIN:VTIMEZONE
TZID:America/Chicago
BEGIN:DAYLIGHT
TZOFFSETFROM:-0600
TZOFFSETTO:-0500
TZNAME:CDT
DTSTART:20230312T080000
END:DAYLIGHT
BEGIN:STANDARD
TZOFFSETFROM:-0500
TZOFFSETTO:-0600
TZNAME:CST
DTSTART:20231105T070000
END:STANDARD
END:VTIMEZONE
BEGIN:VEVENT
DTSTART;TZID=America/Chicago:20231007T090000
DTEND;TZID=America/Chicago:20231007T120000
DTSTAMP:20260424T203730
CREATED:20230110T173619Z
LAST-MODIFIED:20230315T181942Z
UID:6094-1696669200-1696680000@pheasantbranch.org
SUMMARY:Restoration Workday
DESCRIPTION:The Friends of Pheasant Branch Conservancy will host Restoration Workdays on the 1st and 3rd Saturdays in April\, May\, September\, and October in 2023.  Please use the form below to sign up! \n  \n \nFill out my LGL Form!
URL:https://pheasantbranch.org/event/restoration-workday-2-8/
LOCATION:Pheasant Branch Conservancy\, Prairie Lot 5000 Pheasant Branch Rd\,\, Middleton\, WI\, 53562
CATEGORIES:Restoration Event
ATTACH;FMTTYPE=image/jpeg:https://pheasantbranch.org/wp-content/uploads/2022/10/IMG_5272-scaled.jpg
ORGANIZER;CN="Friends of Pheasant Branch Conservancy":MAILTO:copresidents@pheasantbranch.org
END:VEVENT
BEGIN:VEVENT
DTSTART;TZID=America/Chicago:20231007T090000
DTEND;TZID=America/Chicago:20231007T120000
DTSTAMP:20260424T203730
CREATED:20230315T181629Z
LAST-MODIFIED:20230315T181922Z
UID:6241-1696669200-1696680000@pheasantbranch.org
SUMMARY:Seed Collection in the Prairie
DESCRIPTION:Join us on select weekends\, June through October\, collecting native seed at Pheasant Branch Conservancy to be used to expand and diversify our prairies. \nSaturday Events:  9am to 12pm \nSunday Events: 1pm to 4pm \nWe meet at our equipment trailer located between the Springs parking lot and Orchid Heights Park.   \nPlease use the form below to sign up! \n 
URL:https://pheasantbranch.org/event/seed-collection-in-the-prairie-8/
LOCATION:Pheasant Branch Conservancy\, Prairie Lot 5000 Pheasant Branch Rd\,\, Middleton\, WI\, 53562
CATEGORIES:Restoration Event
ATTACH;FMTTYPE=image/jpeg:https://pheasantbranch.org/wp-content/uploads/2022/10/IMG_5272-scaled.jpg
ORGANIZER;CN="Friends of Pheasant Branch Conservancy":MAILTO:copresidents@pheasantbranch.org
END:VEVENT
BEGIN:VEVENT
DTSTART;TZID=America/Chicago:20231021T090000
DTEND;TZID=America/Chicago:20231021T120000
DTSTAMP:20260424T203730
CREATED:20230110T173619Z
LAST-MODIFIED:20230315T181941Z
UID:6095-1697878800-1697889600@pheasantbranch.org
SUMMARY:Restoration Workday
DESCRIPTION:The Friends of Pheasant Branch Conservancy will host Restoration Workdays on the 1st and 3rd Saturdays in April\, May\, September\, and October in 2023.  Please use the form below to sign up! \n  \n \nFill out my LGL Form!
URL:https://pheasantbranch.org/event/restoration-workday-2/
LOCATION:Pheasant Branch Conservancy\, Prairie Lot 5000 Pheasant Branch Rd\,\, Middleton\, WI\, 53562
CATEGORIES:Restoration Event
ATTACH;FMTTYPE=image/jpeg:https://pheasantbranch.org/wp-content/uploads/2022/10/IMG_5272-scaled.jpg
ORGANIZER;CN="Friends of Pheasant Branch Conservancy":MAILTO:copresidents@pheasantbranch.org
END:VEVENT
BEGIN:VEVENT
DTSTART;TZID=America/Chicago:20231022T130000
DTEND;TZID=America/Chicago:20231022T160000
DTSTAMP:20260424T203730
CREATED:20230315T181706Z
LAST-MODIFIED:20230315T181922Z
UID:6243-1697979600-1697990400@pheasantbranch.org
SUMMARY:Seed Collection in the Prairie
DESCRIPTION:Join us on select weekends\, June through October\, collecting native seed at Pheasant Branch Conservancy to be used to expand and diversify our prairies. \nSaturday Events:  9am to 12pm \nSunday Events: 1pm to 4pm \nWe meet at our equipment trailer located between the Springs parking lot and Orchid Heights Park.   \nPlease use the form below to sign up! \n 
URL:https://pheasantbranch.org/event/seed-collection-in-the-prairie-9/
LOCATION:Pheasant Branch Conservancy\, Prairie Lot 5000 Pheasant Branch Rd\,\, Middleton\, WI\, 53562
CATEGORIES:Restoration Event
ATTACH;FMTTYPE=image/jpeg:https://pheasantbranch.org/wp-content/uploads/2022/10/IMG_5276-scaled.jpg
ORGANIZER;CN="Friends of Pheasant Branch Conservancy":MAILTO:copresidents@pheasantbranch.org
END:VEVENT
END:VCALENDAR