BEGIN:VCALENDAR
VERSION:2.0
PRODID:-//Friends of Pheasant Branch Conservancy - ECPv6.13.2.1//NONSGML v1.0//EN
CALSCALE:GREGORIAN
METHOD:PUBLISH
X-ORIGINAL-URL:https://pheasantbranch.org
X-WR-CALDESC:Events for Friends of Pheasant Branch Conservancy
REFRESH-INTERVAL;VALUE=DURATION:PT1H
X-Robots-Tag:noindex
X-PUBLISHED-TTL:PT1H
BEGIN:VTIMEZONE
TZID:America/Chicago
BEGIN:DAYLIGHT
TZOFFSETFROM:-0600
TZOFFSETTO:-0500
TZNAME:CDT
DTSTART:20240310T080000
END:DAYLIGHT
BEGIN:STANDARD
TZOFFSETFROM:-0500
TZOFFSETTO:-0600
TZNAME:CST
DTSTART:20241103T070000
END:STANDARD
END:VTIMEZONE
BEGIN:VEVENT
DTSTART;TZID=America/Chicago:20240120T090000
DTEND;TZID=America/Chicago:20240120T120000
DTSTAMP:20260424T160454
CREATED:20231229T155128Z
LAST-MODIFIED:20240119T142210Z
UID:6701-1705741200-1705752000@pheasantbranch.org
SUMMARY:Winter burn/brush removal workday
DESCRIPTION:The January 20 Winter workday has been cancelled due to below freezing temperatures and a wind chill below zero.  Please see the event calendar for future events. \n  \n 
URL:https://pheasantbranch.org/event/winter-burn-brush-removal-workday/
LOCATION:Highland Way Entrance- Bock Forest\, 5672 Highland Way\, Middleton\, WI\, 53562
CATEGORIES:Restoration Event
ATTACH;FMTTYPE=image/jpeg:https://pheasantbranch.org/wp-content/uploads/2023/04/0EEDCFAC-0EB2-42E7-A005-9191164B0BF3-scaled.jpeg
ORGANIZER;CN="Friends of Pheasant Branch Conservancy":MAILTO:copresidents@pheasantbranch.org
END:VEVENT
END:VCALENDAR