BEGIN:VCALENDAR
VERSION:2.0
PRODID:-//Friends of Pheasant Branch Conservancy - ECPv6.13.2.1//NONSGML v1.0//EN
CALSCALE:GREGORIAN
METHOD:PUBLISH
X-ORIGINAL-URL:https://pheasantbranch.org
X-WR-CALDESC:Events for Friends of Pheasant Branch Conservancy
REFRESH-INTERVAL;VALUE=DURATION:PT1H
X-Robots-Tag:noindex
X-PUBLISHED-TTL:PT1H
BEGIN:VTIMEZONE
TZID:America/Chicago
BEGIN:DAYLIGHT
TZOFFSETFROM:-0600
TZOFFSETTO:-0500
TZNAME:CDT
DTSTART:20240310T080000
END:DAYLIGHT
BEGIN:STANDARD
TZOFFSETFROM:-0500
TZOFFSETTO:-0600
TZNAME:CST
DTSTART:20241103T070000
END:STANDARD
END:VTIMEZONE
BEGIN:VEVENT
DTSTART;TZID=America/Chicago:20240604T160000
DTEND;TZID=America/Chicago:20240604T180000
DTSTAMP:20260424T083548
CREATED:20240513T145534Z
LAST-MODIFIED:20240528T152852Z
UID:6959-1717516800-1717524000@pheasantbranch.org
SUMMARY:Bock Forest Volunteer Workday
DESCRIPTION:Volunteers will help remove Crown Vetch at Bock Forest.  All are welcome\, bring gloves and sturdy footwear.  Please sign up using the form below. \n  \n \nFill out my LGL Form!
URL:https://pheasantbranch.org/event/bork-forest-volunteer-workday/
LOCATION:Bock Forest Unit of Pheasant Branch Conservancy\, Highland Way\, Middleton\, WI\, United States
CATEGORIES:Restoration Event
ATTACH;FMTTYPE=image/png:https://pheasantbranch.org/wp-content/uploads/2024/05/Screenshot-from-2024-05-13-09-49-35.png
ORGANIZER;CN="Friends of Pheasant Branch Conservancy":MAILTO:copresidents@pheasantbranch.org
END:VEVENT
BEGIN:VEVENT
DTSTART;TZID=America/Chicago:20240623T130000
DTEND;TZID=America/Chicago:20240623T160000
DTSTAMP:20260424T083548
CREATED:20240514T014403Z
LAST-MODIFIED:20240514T014403Z
UID:6962-1719147600-1719158400@pheasantbranch.org
SUMMARY:Seed Collection
DESCRIPTION:Thank you for your interest in helping with seed collection in Pheasant Branch Conservancy. Volunteering for these events is a great way to enjoy the Conservancy\, continue our efforts to diversify and expand our prairies and give back to the place we all enjoy so much. All are welcome and no experience is necessary. We simply ask that you sign up in advance so we can plan accordingly. \nSeed collection will alternate between Saturday mornings and Sunday afternoons on select weekends\, June through October. \nPlease register below for the collection dates you are able to attend. Additional instructions will be provided by e-mail for those who register. \n\n\n\nREGISTER HERE
URL:https://pheasantbranch.org/event/seed-collection/
CATEGORIES:Education Event,Restoration Event
END:VEVENT
END:VCALENDAR