BEGIN:VCALENDAR
VERSION:2.0
PRODID:-//Friends of Pheasant Branch Conservancy - ECPv6.13.2.1//NONSGML v1.0//EN
CALSCALE:GREGORIAN
METHOD:PUBLISH
X-ORIGINAL-URL:https://pheasantbranch.org
X-WR-CALDESC:Events for Friends of Pheasant Branch Conservancy
REFRESH-INTERVAL;VALUE=DURATION:PT1H
X-Robots-Tag:noindex
X-PUBLISHED-TTL:PT1H
BEGIN:VTIMEZONE
TZID:America/Chicago
BEGIN:DAYLIGHT
TZOFFSETFROM:-0600
TZOFFSETTO:-0500
TZNAME:CDT
DTSTART:20250309T080000
END:DAYLIGHT
BEGIN:STANDARD
TZOFFSETFROM:-0500
TZOFFSETTO:-0600
TZNAME:CST
DTSTART:20251102T070000
END:STANDARD
END:VTIMEZONE
BEGIN:VEVENT
DTSTART;TZID=America/Chicago:20250308T090000
DTEND;TZID=America/Chicago:20250308T120000
DTSTAMP:20260423T191000
CREATED:20241122T005545Z
LAST-MODIFIED:20250106T041253Z
UID:7292-1741424400-1741435200@pheasantbranch.org
SUMMARY:Invasive Species Removal Workday
DESCRIPTION:Help remove invasive species this spring.  We’ll use loppers and hand saws to remove honeysuckle and buckthorn to help open up the canopy and provide sunlight and space for more beneficial plants.  This is a great way to get some physical activity in while supporting Pheasant Branch Conservancy. \n\n\n\nSign up for workday HERE
URL:https://pheasantbranch.org/event/invasive-species-removal-workday-6/
LOCATION:Pheasant Branch Conservancy\, Prairie Lot 5000 Pheasant Branch Rd\,\, Middleton\, WI\, 53562
CATEGORIES:Restoration Event
ATTACH;FMTTYPE=image/jpeg:https://pheasantbranch.org/wp-content/uploads/2024/11/rest.-crew-with-hill.jpg
END:VEVENT
BEGIN:VEVENT
DTSTART;TZID=America/Chicago:20250323T120000
DTEND;TZID=America/Chicago:20250323T150000
DTSTAMP:20260423T191000
CREATED:20241122T005728Z
LAST-MODIFIED:20250317T221839Z
UID:7295-1742731200-1742742000@pheasantbranch.org
SUMMARY:Invasive Species Removal Workday
DESCRIPTION:Help remove invasive species this spring.  We’ll use loppers and hand saws to remove honeysuckle and buckthorn to help open up the canopy and provide sunlight and space for more beneficial plants.  This is a great way to get some physical activity in while supporting Pheasant Branch Conservancy. \nSign up for workday HERE
URL:https://pheasantbranch.org/event/invasive-species-removal-workday-7/
CATEGORIES:Restoration Event
ATTACH;FMTTYPE=image/jpeg:https://pheasantbranch.org/wp-content/uploads/2024/11/rest.-crew-with-hill.jpg
END:VEVENT
END:VCALENDAR