BEGIN:VCALENDAR
VERSION:2.0
PRODID:-//Friends of Pheasant Branch Conservancy - ECPv6.13.2.1//NONSGML v1.0//EN
CALSCALE:GREGORIAN
METHOD:PUBLISH
X-WR-CALNAME:Friends of Pheasant Branch Conservancy
X-ORIGINAL-URL:https://pheasantbranch.org
X-WR-CALDESC:Events for Friends of Pheasant Branch Conservancy
REFRESH-INTERVAL;VALUE=DURATION:PT1H
X-Robots-Tag:noindex
X-PUBLISHED-TTL:PT1H
BEGIN:VTIMEZONE
TZID:America/Chicago
BEGIN:DAYLIGHT
TZOFFSETFROM:-0600
TZOFFSETTO:-0500
TZNAME:CDT
DTSTART:20260308T080000
END:DAYLIGHT
BEGIN:STANDARD
TZOFFSETFROM:-0500
TZOFFSETTO:-0600
TZNAME:CST
DTSTART:20261101T070000
END:STANDARD
END:VTIMEZONE
BEGIN:VEVENT
DTSTART;TZID=America/Chicago:20260503T130000
DTEND;TZID=America/Chicago:20260503T150000
DTSTAMP:20260423T025238
CREATED:20260219T173102Z
LAST-MODIFIED:20260219T173102Z
UID:8079-1777813200-1777820400@pheasantbranch.org
SUMMARY:Invasive Species Removal Workday
DESCRIPTION:Help remove invasive species this spring.  We’ll use loppers and hand saws to remove honeysuckle and buckthorn to help open up the canopy and provide sunlight and space for more beneficial plants.  This is a great way to get some physical activity in while supporting Pheasant Branch Conservancy. \n\n\n\nSign up for workday HERE
URL:https://pheasantbranch.org/event/invasive-species-removal-workday-16/
CATEGORIES:Restoration Event
END:VEVENT
END:VCALENDAR