BEGIN:VCALENDAR
VERSION:2.0
PRODID:-//Friends of Pheasant Branch Conservancy - ECPv6.13.2.1//NONSGML v1.0//EN
CALSCALE:GREGORIAN
METHOD:PUBLISH
X-WR-CALNAME:Friends of Pheasant Branch Conservancy
X-ORIGINAL-URL:https://pheasantbranch.org
X-WR-CALDESC:Events for Friends of Pheasant Branch Conservancy
REFRESH-INTERVAL;VALUE=DURATION:PT1H
X-Robots-Tag:noindex
X-PUBLISHED-TTL:PT1H
BEGIN:VTIMEZONE
TZID:America/Chicago
BEGIN:DAYLIGHT
TZOFFSETFROM:-0600
TZOFFSETTO:-0500
TZNAME:CDT
DTSTART:20230312T080000
END:DAYLIGHT
BEGIN:STANDARD
TZOFFSETFROM:-0500
TZOFFSETTO:-0600
TZNAME:CST
DTSTART:20231105T070000
END:STANDARD
END:VTIMEZONE
BEGIN:VEVENT
DTSTART;TZID=America/Chicago:20231106T160000
DTEND;TZID=America/Chicago:20231106T180000
DTSTAMP:20260424T203050
CREATED:20230428T145622Z
LAST-MODIFIED:20230530T140653Z
UID:6369-1699286400-1699293600@pheasantbranch.org
SUMMARY:Bock Forest Seed Sowing
DESCRIPTION:Join the Friends along with Adaptive Restoration staff and Bock Community Gardeners in sowing seed in the prairies at Bock Forest.  Please use the form below to sign up so we know how many volunteers to expect. \n  Fill out my LGL Form!
URL:https://pheasantbranch.org/event/bock-forest-seed-sowing/
LOCATION:Bock Community Garden\, 5606 Highland Way\, Middleton\, WI\, 53562
CATEGORIES:Restoration Event
ATTACH;FMTTYPE=image/jpeg:https://pheasantbranch.org/wp-content/uploads/2023/05/A6791CF7-BFE2-4D10-B778-868974172793-scaled.jpeg
END:VEVENT
END:VCALENDAR