BEGIN:VCALENDAR
VERSION:2.0
PRODID:-//Friends of Pheasant Branch Conservancy - ECPv6.13.2.1//NONSGML v1.0//EN
CALSCALE:GREGORIAN
METHOD:PUBLISH
X-ORIGINAL-URL:https://pheasantbranch.org
X-WR-CALDESC:Events for Friends of Pheasant Branch Conservancy
REFRESH-INTERVAL;VALUE=DURATION:PT1H
X-Robots-Tag:noindex
X-PUBLISHED-TTL:PT1H
BEGIN:VTIMEZONE
TZID:America/Chicago
BEGIN:DAYLIGHT
TZOFFSETFROM:-0600
TZOFFSETTO:-0500
TZNAME:CDT
DTSTART:20240310T080000
END:DAYLIGHT
BEGIN:STANDARD
TZOFFSETFROM:-0500
TZOFFSETTO:-0600
TZNAME:CST
DTSTART:20241103T070000
END:STANDARD
END:VTIMEZONE
BEGIN:VEVENT
DTSTART;TZID=America/Chicago:20240525T090000
DTEND;TZID=America/Chicago:20240525T120000
DTSTAMP:20260424T114858
CREATED:20240513T145345Z
LAST-MODIFIED:20240517T145204Z
UID:6954-1716627600-1716638400@pheasantbranch.org
SUMMARY:Bock Forest Volunteer Workday
DESCRIPTION:Volunteers will help remove Crown Vetch at Bock Forest.  All are welcome\, bring gloves and sturdy footwear.  Please sign up using the form below. \n  \n \nFill out my LGL Form! \n  \n 
URL:https://pheasantbranch.org/event/bock-forest-volunteer-workday/
LOCATION:Bock Forest Unit of Pheasant Branch Conservancy\, Highland Way\, Middleton\, WI\, United States
CATEGORIES:Restoration Event
ATTACH;FMTTYPE=image/png:https://pheasantbranch.org/wp-content/uploads/2024/05/Screenshot-from-2024-05-13-09-49-35.png
ORGANIZER;CN="Friends of Pheasant Branch Conservancy":MAILTO:copresidents@pheasantbranch.org
END:VEVENT
END:VCALENDAR