BEGIN:VCALENDAR
VERSION:2.0
PRODID:-//Friends of Pheasant Branch Conservancy - ECPv6.13.2.1//NONSGML v1.0//EN
CALSCALE:GREGORIAN
METHOD:PUBLISH
X-ORIGINAL-URL:https://pheasantbranch.org
X-WR-CALDESC:Events for Friends of Pheasant Branch Conservancy
REFRESH-INTERVAL;VALUE=DURATION:PT1H
X-Robots-Tag:noindex
X-PUBLISHED-TTL:PT1H
BEGIN:VTIMEZONE
TZID:America/Chicago
BEGIN:DAYLIGHT
TZOFFSETFROM:-0600
TZOFFSETTO:-0500
TZNAME:CDT
DTSTART:20240310T080000
END:DAYLIGHT
BEGIN:STANDARD
TZOFFSETFROM:-0500
TZOFFSETTO:-0600
TZNAME:CST
DTSTART:20241103T070000
END:STANDARD
END:VTIMEZONE
BEGIN:VEVENT
DTSTART;TZID=America/Chicago:20240904T160000
DTEND;TZID=America/Chicago:20240904T170000
DTSTAMP:20260424T054702
CREATED:20240830T181346Z
LAST-MODIFIED:20240830T181817Z
UID:7195-1725465600-1725469200@pheasantbranch.org
SUMMARY:Monarch Butterfly Tagging
DESCRIPTION:The Friends of Pheasant Branch Conservancy are participating in the Monarch Watch monarch butterfly tagging program to help generate data on the insect’s migration and habitat.  We’ll offer three family friendly events where participants will learn techniques for netting and tagging butterflies.  No equipment or experience is necessary\, but if you have your own butterfly net\, feel free to bring it with.  \nEvent Locations: \nThe Homestead Site:  We will meet at the FOPBC equipment trailer.  Parking is available in the Dane County lot at 4865 Pheasant Branch Rd\, or at Orchid Heights Park. \nThe Bock Forest: We will meet at the Kiosk located at the Highland Way entrance. Street parking is available on Highland Way. \n\nPlease register below to assist the Friends in planning for the correct number of participants: \n \n\n\n\n\nRegister here for butterfly tagging\n\n\n\n\n \nOnce you RSVP we’ll keep you updated on the event via e-mail.
URL:https://pheasantbranch.org/event/monarch-butterfly-tagging/
LOCATION:The Homestead Site: Dane County lot at 4865 Pheasant Branch Rd
CATEGORIES:Restoration Event
ATTACH;FMTTYPE=image/jpeg:https://pheasantbranch.org/wp-content/uploads/2018/12/monarch.jpg
END:VEVENT
END:VCALENDAR