BEGIN:VCALENDAR
VERSION:2.0
PRODID:-//Friends of Pheasant Branch Conservancy - ECPv6.13.2.1//NONSGML v1.0//EN
CALSCALE:GREGORIAN
METHOD:PUBLISH
X-ORIGINAL-URL:https://pheasantbranch.org
X-WR-CALDESC:Events for Friends of Pheasant Branch Conservancy
REFRESH-INTERVAL;VALUE=DURATION:PT1H
X-Robots-Tag:noindex
X-PUBLISHED-TTL:PT1H
BEGIN:VTIMEZONE
TZID:America/Chicago
BEGIN:DAYLIGHT
TZOFFSETFROM:-0600
TZOFFSETTO:-0500
TZNAME:CDT
DTSTART:20240310T080000
END:DAYLIGHT
BEGIN:STANDARD
TZOFFSETFROM:-0500
TZOFFSETTO:-0600
TZNAME:CST
DTSTART:20241103T070000
END:STANDARD
END:VTIMEZONE
BEGIN:VEVENT
DTSTART;TZID=America/Chicago:20240907T090000
DTEND;TZID=America/Chicago:20240907T120000
DTSTAMP:20260424T054658
CREATED:20240904T192150Z
LAST-MODIFIED:20240904T202922Z
UID:7209-1725699600-1725710400@pheasantbranch.org
SUMMARY:Pop-up Seed Collection 9/7
DESCRIPTION:The Friends of Pheasant Branch Conservancy land manager has identified several upland prairie plants that are ripe for seed collection\, so we are scheduling an extra volunteer workday this Saturday\, September 7th from 9 am to noon.   \nEvent Location: \nHomestead Site: We will meet at the FOPBC equipment trailer. Parking is available in the Dane County lot at 4865 Pheasant Branch Rd. \nSaturday September 7th\, 9:00am \nWe’ll head up to the top of Pheasant Branch Hill\, so no need for waterproof boots\, but rugged footwear\, long sleeves and pants are recommended. \nPlease use the form below to register to assist the Friends in planning for the correct number of participants. \n  \n \nFill out my LGL Form!
URL:https://pheasantbranch.org/event/pop-up-seed-collection-9-7/
LOCATION:Pheasant Branch Conservancy\, Prairie Lot 5000 Pheasant Branch Rd\,\, Middleton\, WI\, 53562
CATEGORIES:Restoration Event
ATTACH;FMTTYPE=image/jpeg:https://pheasantbranch.org/wp-content/uploads/2022/08/vince-veras-sYaK3SlGwEw-unsplash-scaled.jpg
ORGANIZER;CN="Friends of Pheasant Branch Conservancy":MAILTO:copresidents@pheasantbranch.org
END:VEVENT
END:VCALENDAR