BEGIN:VCALENDAR
VERSION:2.0
PRODID:-//Friends of Pheasant Branch Conservancy - ECPv6.13.2.1//NONSGML v1.0//EN
CALSCALE:GREGORIAN
METHOD:PUBLISH
X-ORIGINAL-URL:https://pheasantbranch.org
X-WR-CALDESC:Events for Friends of Pheasant Branch Conservancy
REFRESH-INTERVAL;VALUE=DURATION:PT1H
X-Robots-Tag:noindex
X-PUBLISHED-TTL:PT1H
BEGIN:VTIMEZONE
TZID:America/Chicago
BEGIN:DAYLIGHT
TZOFFSETFROM:-0600
TZOFFSETTO:-0500
TZNAME:CDT
DTSTART:20240310T080000
END:DAYLIGHT
BEGIN:STANDARD
TZOFFSETFROM:-0500
TZOFFSETTO:-0600
TZNAME:CST
DTSTART:20241103T070000
END:STANDARD
END:VTIMEZONE
BEGIN:VEVENT
DTSTART;TZID=America/Chicago:20240917T160000
DTEND;TZID=America/Chicago:20240917T180000
DTSTAMP:20260424T054703
CREATED:20240909T174316Z
LAST-MODIFIED:20240909T181459Z
UID:7214-1726588800-1726596000@pheasantbranch.org
SUMMARY:Bock Forest Seed Collection
DESCRIPTION:Help gather seed for Bock Conservancy’s newest prairie restoration! Tuesday\, 9/17 from 4-6 pm. We’ll meet at the kiosk in Bock Prairie off of Highland Way.   We’ll have hand clippers available but feel free to bring your own if you have them\, wear gloves\, a hat\, long pants and long sleeves\, and bring a water bottle. Snacks and other supplies will be provided. \nTo help us plan an expected headcount\, please RSVP below. \n Fill out my LGL Form!
URL:https://pheasantbranch.org/event/bock-forest-seed-collection-3/
LOCATION:Bock Forest Unit of Pheasant Branch Conservancy\, Highland Way\, Middleton\, WI\, United States
CATEGORIES:Restoration Event
ATTACH;FMTTYPE=image/jpeg:https://pheasantbranch.org/wp-content/uploads/2022/10/IMG_5272-scaled.jpg
END:VEVENT
END:VCALENDAR