BEGIN:VCALENDAR
VERSION:2.0
PRODID:-//Friends of Pheasant Branch Conservancy - ECPv6.13.2.1//NONSGML v1.0//EN
CALSCALE:GREGORIAN
METHOD:PUBLISH
X-ORIGINAL-URL:https://pheasantbranch.org
X-WR-CALDESC:Events for Friends of Pheasant Branch Conservancy
REFRESH-INTERVAL;VALUE=DURATION:PT1H
X-Robots-Tag:noindex
X-PUBLISHED-TTL:PT1H
BEGIN:VTIMEZONE
TZID:America/Chicago
BEGIN:DAYLIGHT
TZOFFSETFROM:-0600
TZOFFSETTO:-0500
TZNAME:CDT
DTSTART:20240310T080000
END:DAYLIGHT
BEGIN:STANDARD
TZOFFSETFROM:-0500
TZOFFSETTO:-0600
TZNAME:CST
DTSTART:20241103T070000
END:STANDARD
END:VTIMEZONE
BEGIN:VEVENT
DTSTART;TZID=America/Chicago:20240921T090000
DTEND;TZID=America/Chicago:20240921T120000
DTSTAMP:20260424T054700
CREATED:20240909T174843Z
LAST-MODIFIED:20240909T181436Z
UID:7216-1726909200-1726920000@pheasantbranch.org
SUMMARY:Invasive Species Removal Workday
DESCRIPTION:Help remove invasive species along the southeast corridor trail this fall.  We’ll use loppers and hand saws to remove honeysuckle and buckthorn to help open up the canopy and provide sunlight and space for more beneficial plants.  This is a great way to get some physical activity in while supporting Pheasant Branch Conservancy. \nPlease use the form below to RSVP to so we can plan for the appropriate group size.  Tools and snacks are provided. \nFill out my LGL Form! 
URL:https://pheasantbranch.org/event/invasive-species-removal-workday/
LOCATION:Bock Forest Unit of Pheasant Branch Conservancy\, Highland Way\, Middleton\, WI\, United States
CATEGORIES:Restoration Event
ATTACH;FMTTYPE=image/jpeg:https://pheasantbranch.org/wp-content/uploads/2023/04/FC4D61A5-B350-48E2-A673-4AFB12BED6E7_1_105_c.jpeg
END:VEVENT
END:VCALENDAR