BEGIN:VCALENDAR
VERSION:2.0
PRODID:-//Friends of Pheasant Branch Conservancy - ECPv6.13.2.1//NONSGML v1.0//EN
CALSCALE:GREGORIAN
METHOD:PUBLISH
X-WR-CALNAME:Friends of Pheasant Branch Conservancy
X-ORIGINAL-URL:https://pheasantbranch.org
X-WR-CALDESC:Events for Friends of Pheasant Branch Conservancy
REFRESH-INTERVAL;VALUE=DURATION:PT1H
X-Robots-Tag:noindex
X-PUBLISHED-TTL:PT1H
BEGIN:VTIMEZONE
TZID:America/Chicago
BEGIN:DAYLIGHT
TZOFFSETFROM:-0600
TZOFFSETTO:-0500
TZNAME:CDT
DTSTART:20250309T080000
END:DAYLIGHT
BEGIN:STANDARD
TZOFFSETFROM:-0500
TZOFFSETTO:-0600
TZNAME:CST
DTSTART:20251102T070000
END:STANDARD
END:VTIMEZONE
BEGIN:VEVENT
DTSTART;TZID=America/Chicago:20250629T130000
DTEND;TZID=America/Chicago:20250629T160000
DTSTAMP:20260423T151514
CREATED:20250412T200206Z
LAST-MODIFIED:20250519T231501Z
UID:7489-1751202000-1751212800@pheasantbranch.org
SUMMARY:Seed Collection
DESCRIPTION:Thank you for your interest in helping with seed collection in Pheasant Branch Conservancy. Volunteering for these events is a great way to enjoy the Conservancy\, continue our efforts to diversify and expand our prairies and give back to the place we all enjoy so much. All are welcome and no experience is necessary. We simply ask that you sign up in advance so we can plan accordingly. \nSeed collection will alternate between Saturday mornings and Sunday afternoons on select weekends\, June through October. \nPlease register below for the collection dates you are able to attend. Additional instructions will be provided by e-mail for those who register. \n\n\n\nREGISTER HERE
URL:https://pheasantbranch.org/event/seed-collection-12/
LOCATION:4864 Pheasant Branch Road\, Middleton\, WI 53562
CATEGORIES:Restoration Event
ATTACH;FMTTYPE=image/jpeg:https://pheasantbranch.org/wp-content/uploads/2022/10/IMG_5276-scaled.jpg
END:VEVENT
END:VCALENDAR