BEGIN:VCALENDAR
VERSION:2.0
PRODID:-//Friends of Pheasant Branch Conservancy - ECPv6.13.2.1//NONSGML v1.0//EN
CALSCALE:GREGORIAN
METHOD:PUBLISH
X-WR-CALNAME:Friends of Pheasant Branch Conservancy
X-ORIGINAL-URL:https://pheasantbranch.org
X-WR-CALDESC:Events for Friends of Pheasant Branch Conservancy
REFRESH-INTERVAL;VALUE=DURATION:PT1H
X-Robots-Tag:noindex
X-PUBLISHED-TTL:PT1H
BEGIN:VTIMEZONE
TZID:America/Chicago
BEGIN:DAYLIGHT
TZOFFSETFROM:-0600
TZOFFSETTO:-0500
TZNAME:CDT
DTSTART:20190310T080000
END:DAYLIGHT
BEGIN:STANDARD
TZOFFSETFROM:-0500
TZOFFSETTO:-0600
TZNAME:CST
DTSTART:20191103T070000
END:STANDARD
END:VTIMEZONE
BEGIN:VEVENT
DTSTART;TZID=America/Chicago:20190803T100000
DTEND;TZID=America/Chicago:20190803T130000
DTSTAMP:20260423T122925
CREATED:20190723T024350Z
LAST-MODIFIED:20190723T025143Z
UID:2338-1564826400-1564837200@pheasantbranch.org
SUMMARY:Special Workday - Seed Collection
DESCRIPTION:Join us on this special workday to collect prairie and wetland plant seeds.\n \nEven if it is warm\, we highly recommend long pants\, long sleeves and a hat to protect you from brush and the sun. Please wear shoes/boots that are appropriate for wet and muddy areas. Work gloves and insect repellent are also recommended. We will supply all the tools needed\, and have some extra gloves if you need them.\n \nIf you are in a car\, the gate will be open so you can drive in from the County Parking Lot at 4864 Pheasant Branch Road. Please drive slowly up the road\, watch for hikers and park in the large\, grassy parking lot across from the homestead and the Friends work trailer. There’s also a bike rack for those of you who ride in.\n \nEven if you are not able to stay for the full 3 hours you’re welcome to join us for as long as you can stay.Workdays are weather dependent; so please let us know you are coming. This will allow us to let you know if we have to cancel and we can ensure we have enough snacks for everyone.
URL:https://pheasantbranch.org/event/special-workday-seed-collection-3/
LOCATION:Virtual Event\, The instructor will send along a Zoom link two days in advance.\, WI
CATEGORIES:Restoration Event
ATTACH;FMTTYPE=image/jpeg:https://pheasantbranch.org/wp-content/uploads/2019/02/seed_collecting.jpg
END:VEVENT
BEGIN:VEVENT
DTSTART;TZID=America/Chicago:20190731T180000
DTEND;TZID=America/Chicago:20190731T200000
DTSTAMP:20260423T122925
CREATED:20190723T023214Z
LAST-MODIFIED:20190723T024908Z
UID:2333-1564596000-1564603200@pheasantbranch.org
SUMMARY:Bock Prairie Workday
DESCRIPTION:Join in tending the new prairies at the John C. Bock Community Forest. The prairies are a great example of high quality restoration on public lands. We’ll meet at the garden shed in the middle of the enclosed garden. It’s on Highland Way\, just off Century Avenue\, at the crest of the hill east of Allen Blvd. There’s a stop light at the intersection of Century and Highland – turn at the light and follow the road until you see the garden area on the left at the end of the open field. There’s lots of on-street parking.\n \nDress for the weather\, and wear long pants\, socks and sturdy shoes. Long sleeves and hats are also recommended – along with insect repellent and sunscreen. Bring your favorite work gloves if you have some. \n \nPlease RSVP if you’re planning to come to help with planning enough supplies for everyone.\n \nThis is a work session for members of the Bock Community Garden lead by Adaptive Restorations. Each year\, the Bock Gardeners invite the Friends to join them.
URL:https://pheasantbranch.org/event/bock-prairie-workday-3/
LOCATION:Bock Community Garden\, 5606 Highland Way\, Middleton\, WI\, 53562
CATEGORIES:Restoration Event
ATTACH;FMTTYPE=image/jpeg:https://pheasantbranch.org/wp-content/uploads/2019/02/prairie_mosaic.jpg
END:VEVENT
BEGIN:VEVENT
DTSTART;TZID=America/Chicago:20190713T090000
DTEND;TZID=America/Chicago:20190713T120000
DTSTAMP:20260423T122925
CREATED:20190708T014358Z
LAST-MODIFIED:20190708T014432Z
UID:2319-1563008400-1563019200@pheasantbranch.org
SUMMARY:Special Workday - Seed Collection
DESCRIPTION:Join us on this special workday to collect spiderwort in the upland prairies and sedges in the wetland.\n \nEven if it is warm\, we highly recommend long pants\, long sleeves and a hat to protect you from brush and the sun. Since we’ll be working in the wetland\, please wear shoes/boots that are appropriate for wet and muddy areas.. Work gloves and insect repellent are also recommended. We will supply all the tools needed\, and have some extra gloves if you need them.\n \nIf you are in a car\, the gate will be open so you can drive in from the County Parking Lot at 4864 Pheasant Branch Road. Please drive slowly up the road\, watch for hikers and park in the large\, grassy parking lot across from the homestead and the Friends work trailer. There’s also a bike rack for those of you who ride in.\n \nEven if you are not able to stay for the full 3 hours you’re welcome to join us for as long as you can stay.Workdays are weather dependent; so please let us know you are coming. This will allow us to let you know if we have to cancel and we can ensure we have enough snacks for everyone.
URL:https://pheasantbranch.org/event/special-workday-seed-collection-2/
LOCATION:Virtual Event\, The instructor will send along a Zoom link two days in advance.\, WI
CATEGORIES:Restoration Event
ATTACH;FMTTYPE=image/jpeg:https://pheasantbranch.org/wp-content/uploads/2019/02/seed_collecting.jpg
END:VEVENT
BEGIN:VEVENT
DTSTART;TZID=America/Chicago:20190629T120000
DTEND;TZID=America/Chicago:20190629T150000
DTSTAMP:20260423T122925
CREATED:20190618T030620Z
LAST-MODIFIED:20190618T030620Z
UID:2301-1561809600-1561820400@pheasantbranch.org
SUMMARY:Special Workday – Seed Collection
DESCRIPTION:The sedges in the wetland are producing seed and our goal is to collect as much as we can so that we can so we can plant them later into areas that need more of the plants that protect our precious wetland!\n \nEven if it is warm\, we highly recommend long pants\, long sleeves and a hat to protect you from brush and the sun. Since we’ll be working in the wetland\, please bring waterproof shoes. Work gloves and insect repellent are also recommended. We will supply all the tools needed\, and have some extra gloves if you need them. It is spring\, so wear shoes/boots that are appropriate for wet and muddy areas.\n \nIf you are in a car\, the gate will be open so you can drive in from the County Parking Lot at 4864 Pheasant Branch Road. Please drive slowly up the road\, watch for hikers and park in the large\, grassy parking lot across from the homestead and the Friends work trailer. There’s also a bike rack for those of you who ride in.\n \nEven if you are not able to stay for the full 3 hours you’re welcome to join us for as long as you can stay.Workdays are weather dependent; so please let us know you are coming. This will allow us to let you know if we have to cancel and we can ensure we have enough snacks for everyone.
URL:https://pheasantbranch.org/event/special-workday-seed-collection/
LOCATION:Virtual Event\, The instructor will send along a Zoom link two days in advance.\, WI
CATEGORIES:Restoration Event
ATTACH;FMTTYPE=image/jpeg:https://pheasantbranch.org/wp-content/uploads/2019/02/Conservancy-31-1.jpg
END:VEVENT
BEGIN:VEVENT
DTSTART;TZID=America/Chicago:20190626T180000
DTEND;TZID=America/Chicago:20190626T200000
DTSTAMP:20260423T122925
CREATED:20190618T030504Z
LAST-MODIFIED:20190618T030504Z
UID:2299-1561572000-1561579200@pheasantbranch.org
SUMMARY:Bock Prairie Workday
DESCRIPTION:Join in tending the new prairies at the John C. Bock Community Forest. The prairies are a great example of high quality restoration on public lands. We’ll meet at the garden shed in the middle of the enclosed garden. It’s on Highland Way\, just off Century Avenue\, at the crest of the hill east of Allen Blvd. There’s a stop light at the intersection of Century and Highland – turn at the light and follow the road until you see the garden area on the left at the end of the open field. There’s lots of on-street parking.\n \nDress for the weather\, and wear long pants\, socks and sturdy shoes. Long sleeves and hats are also recommended – along with insect repellent and sunscreen. Bring your favorite work gloves if you have some. \n \nPlease RSVP if you’re planning to come to help with planning enough supplies for everyone.
URL:https://pheasantbranch.org/event/bock-prairie-workday-2/
LOCATION:Bock Community Garden\, 5606 Highland Way\, Middleton\, WI\, 53562
CATEGORIES:Restoration Event
ATTACH;FMTTYPE=image/jpeg:https://pheasantbranch.org/wp-content/uploads/2019/02/prairie_mosaic.jpg
END:VEVENT
BEGIN:VEVENT
DTSTART;TZID=America/Chicago:20190615T090000
DTEND;TZID=America/Chicago:20190615T150000
DTSTAMP:20260423T122925
CREATED:20190530T033021Z
LAST-MODIFIED:20190530T033021Z
UID:2260-1560589200-1560610800@pheasantbranch.org
SUMMARY:Special Planting Workday
DESCRIPTION:Please join us in helping create a special new Conservancy feature. Our Land Manager Rob Schubert wrote a successful grant for a plant propagation nursery. It will have about 1\,100 plants this year and we need your help to plant them. \nOn June 15 we will have two three hour sessions with up to 15 people in each session. The first session will be 9 am until noon. The second session is noon until 3 pm or we finish planting. People may sign up for both sessions if they are interested in helping all day. Please RSVP to and tell us which session you will be able to work. \nWe hope those of you with previous planting experience will be able to help. Holes will already be prepared but careful handling and planting will be critical to success this season. \nPlan to park in the gravel parking lot and walk into the homestead site. In addition to the usual long pants and shirts\, you might want to bring your knee pads. \nThank you for helping launch this major effort to expand the diversity of plants in the Conservancy.
URL:https://pheasantbranch.org/event/special-planting-workday/
LOCATION:Virtual Event\, The instructor will send along a Zoom link two days in advance.\, WI
CATEGORIES:Restoration Event
ATTACH;FMTTYPE=image/jpeg:https://pheasantbranch.org/wp-content/uploads/2019/02/prairie_mosaic.jpg
END:VEVENT
BEGIN:VEVENT
DTSTART;TZID=America/Chicago:20190530T180000
DTEND;TZID=America/Chicago:20190530T200000
DTSTAMP:20260423T122925
CREATED:20190523T032533Z
LAST-MODIFIED:20190524T185446Z
UID:2249-1559239200-1559246400@pheasantbranch.org
SUMMARY:Bock Prairie Workday
DESCRIPTION:Join in tending the new prairies at the John C. Bock Community Forest\, just off Highland Way. The prairies are a great example of high quality restoration on public lands. \nWe’ll meet at the garden shed in the middle of the enclosed garden. It’s on Highland Way\, just off Century Avenue\, at the crest of the hill east of Allen Blvd. There’s a stop light at the intersection of Century and Highland – turn at the light and follow the road until you see the garden area on the left at the end of the open field. There’s lots of on-street parking. \nDress for the weather\, and wear long pants\, socks and sturdy shoes. Long sleeves and hats are also recommended – along with insect repellent and sunscreen. Bring your favorite work gloves if you have some.  \nPlease RSVP if you’re planning to come to help with planning enough supplies for everyone. Hope you can join in on the 30th. \nThis is a work session for members of the Bock Community Garden lead by Adaptive Restorations.  Each year\, the Bock Gardeners invite the Friends to join them.  This session will be the first of four this summer. 
URL:https://pheasantbranch.org/event/bock-prairie-workday/
LOCATION:Bock Community Garden\, 5606 Highland Way\, Middleton\, WI\, 53562
CATEGORIES:Restoration Event
ATTACH;FMTTYPE=image/jpeg:https://pheasantbranch.org/wp-content/uploads/2019/05/fullsizeoutput_2fd4.jpeg
END:VEVENT
BEGIN:VEVENT
DTSTART;TZID=America/Chicago:20190406T090000
DTEND;TZID=America/Chicago:20190406T120000
DTSTAMP:20260423T122925
CREATED:20181230T034458Z
LAST-MODIFIED:20190131T141754Z
UID:1199-1554541200-1554552000@pheasantbranch.org
SUMMARY:Restoration Work Day
DESCRIPTION:Our 2019 plan for workdays has changed. We are planning two “regular” workdays in April\, May\, September and October. They are planned for the first and third Saturdays. This better coincides with typical workload needs and allows for easier scheduling of special workdays typically in the summer and affiliated with employers or organizations.  All regular workdays are from 9 AM – noon. \nWork will consist of pulling invasives\, cutting brush\, or gathering seed. Specific work will be announced by email before the work date. \nVolunteers should meet at the Pheasant Branch Dane County Parking lot (fire number 4864\, labeled “County lot” on this online map) 1.2 miles north of Century Avenue on Pheasant Branch Road\, unless instructed otherwise. \nWorkdays are weather dependent; let us know you are coming at restoration@pheasantbranch.org\, we will let you know if we have to cancel. \nWe hope you can join us!
URL:https://pheasantbranch.org/event/restoration-work-day-2019-06-01/
LOCATION:Virtual Event\, The instructor will send along a Zoom link two days in advance.\, WI
CATEGORIES:Restoration Event
END:VEVENT
BEGIN:VEVENT
DTSTART;TZID=America/Chicago:20190302T120000
DTEND;TZID=America/Chicago:20190302T150000
DTSTAMP:20260423T122925
CREATED:20190205T144359Z
LAST-MODIFIED:20190205T144937Z
UID:1282-1551528000-1551538800@pheasantbranch.org
SUMMARY:Winter Restoration Workday
DESCRIPTION:Help to rejuvenate the wetlands at this special winter workday. Work will consist of cutting brush in the wetland and burning piles. Wear sturdy boots and winter gear. No experience needed! RSVPs are appreciated to Schubert.Robert@countyofdane.com.
URL:https://pheasantbranch.org/event/winter-restoration-workday-2019-03-09/
LOCATION:Virtual Event\, The instructor will send along a Zoom link two days in advance.\, WI
CATEGORIES:Restoration Event
ATTACH;FMTTYPE=image/jpeg:https://pheasantbranch.org/wp-content/uploads/2019/02/winter-workday.jpg
END:VEVENT
BEGIN:VEVENT
DTSTART;TZID=America/Chicago:20190216T120000
DTEND;TZID=America/Chicago:20190216T150000
DTSTAMP:20260423T122925
CREATED:20190205T144359Z
LAST-MODIFIED:20190205T145025Z
UID:1281-1550318400-1550329200@pheasantbranch.org
SUMMARY:Winter Restoration Workday
DESCRIPTION:Help to rejuvenate the wetlands at this special winter workday. Work will consist of cutting brush in the wetland and burning piles. Wear sturdy boots and winter gear. No experience needed! RSVPs are appreciated to Schubert.Robert@countyofdane.com.
URL:https://pheasantbranch.org/event/winter-restoration-workday-2019-02-23/
LOCATION:Virtual Event\, The instructor will send along a Zoom link two days in advance.\, WI
CATEGORIES:Restoration Event
ATTACH;FMTTYPE=image/jpeg:https://pheasantbranch.org/wp-content/uploads/2019/02/winter-workday.jpg
END:VEVENT
BEGIN:VEVENT
DTSTART;TZID=America/Chicago:20190202T120000
DTEND;TZID=America/Chicago:20190202T150000
DTSTAMP:20260423T122925
CREATED:20190205T144359Z
LAST-MODIFIED:20190205T145055Z
UID:1280-1549108800-1549119600@pheasantbranch.org
SUMMARY:Winter Restoration Workday
DESCRIPTION:Help to rejuvenate the wetlands at this special winter workday. Work will consist of cutting brush in the wetland and burning piles. Wear sturdy boots and winter gear. No experience needed! RSVPs are appreciated to Schubert.Robert@countyofdane.com.
URL:https://pheasantbranch.org/event/winter-restoration-workday-2019-02-09/
LOCATION:Virtual Event\, The instructor will send along a Zoom link two days in advance.\, WI
CATEGORIES:Restoration Event
ATTACH;FMTTYPE=image/jpeg:https://pheasantbranch.org/wp-content/uploads/2019/02/winter-workday.jpg
END:VEVENT
END:VCALENDAR