BEGIN:VCALENDAR
VERSION:2.0
PRODID:-//Friends of Pheasant Branch Conservancy - ECPv6.13.2.1//NONSGML v1.0//EN
CALSCALE:GREGORIAN
METHOD:PUBLISH
X-WR-CALNAME:Friends of Pheasant Branch Conservancy
X-ORIGINAL-URL:https://pheasantbranch.org
X-WR-CALDESC:Events for Friends of Pheasant Branch Conservancy
REFRESH-INTERVAL;VALUE=DURATION:PT1H
X-Robots-Tag:noindex
X-PUBLISHED-TTL:PT1H
BEGIN:VTIMEZONE
TZID:America/Chicago
BEGIN:DAYLIGHT
TZOFFSETFROM:-0600
TZOFFSETTO:-0500
TZNAME:CDT
DTSTART:20220313T080000
END:DAYLIGHT
BEGIN:STANDARD
TZOFFSETFROM:-0500
TZOFFSETTO:-0600
TZNAME:CST
DTSTART:20221106T070000
END:STANDARD
END:VTIMEZONE
BEGIN:VEVENT
DTSTART;TZID=America/Chicago:20221015T100000
DTEND;TZID=America/Chicago:20221015T130000
DTSTAMP:20260425T224032
CREATED:20221003T024849Z
LAST-MODIFIED:20221003T024849Z
UID:5923-1665828000-1665838800@pheasantbranch.org
SUMMARY:Celebrating Books and Bugs in the Bock Forest
DESCRIPTION: \n  \n  \n  \n 
URL:https://pheasantbranch.org/event/celebrating-books-and-bugs-in-the-bock-forest/
LOCATION:Highland Way Entrance- Bock Forest\, 5672 Highland Way\, Middleton\, WI\, 53562
CATEGORIES:Education Event
ATTACH;FMTTYPE=application/pdf:https://pheasantbranch.org/wp-content/uploads/2022/10/Books-and-Bugs-Final-with-Disclaimer-4K-1.pdf
END:VEVENT
END:VCALENDAR