BEGIN:VCALENDAR
VERSION:2.0
PRODID:-//Friends of Pheasant Branch Conservancy - ECPv6.13.2.1//NONSGML v1.0//EN
CALSCALE:GREGORIAN
METHOD:PUBLISH
X-ORIGINAL-URL:https://pheasantbranch.org
X-WR-CALDESC:Events for Friends of Pheasant Branch Conservancy
REFRESH-INTERVAL;VALUE=DURATION:PT1H
X-Robots-Tag:noindex
X-PUBLISHED-TTL:PT1H
BEGIN:VTIMEZONE
TZID:America/Chicago
BEGIN:DAYLIGHT
TZOFFSETFROM:-0600
TZOFFSETTO:-0500
TZNAME:CDT
DTSTART:20250309T080000
END:DAYLIGHT
BEGIN:STANDARD
TZOFFSETFROM:-0500
TZOFFSETTO:-0600
TZNAME:CST
DTSTART:20251102T070000
END:STANDARD
END:VTIMEZONE
BEGIN:VEVENT
DTSTART;TZID=America/Chicago:20250823T100000
DTEND;TZID=America/Chicago:20250823T120000
DTSTAMP:20260423T132048
CREATED:20250819T205958Z
LAST-MODIFIED:20250819T205958Z
UID:7777-1755943200-1755950400@pheasantbranch.org
SUMMARY:Monarch Tagging
DESCRIPTION:The Friends of Pheasant Branch Conservancy are participating in the Monarch Watch monarch butterfly tagging program to help generate data on the insect’s migration and habitat.  We’ll offer two family friendly events where participants will learn techniques for netting and tagging butterflies.  No equipment or experience is necessary\, but if you have your own butterfly net\, feel free to bring it with.  \nEvent Location:  The Homestead Site \nWe will meet at the FOPBC equipment trailer.  Parking is available in the Dane County lot at 4865 Pheasant Branch Rd\, or at Orchid Heights Park \n(Rain date will be Sunday\, 8/24\, at 10.) \n\n\n\nREGISTER HERE
URL:https://pheasantbranch.org/event/monarch-tagging/
LOCATION:The Homestead Site: Dane County lot at 4865 Pheasant Branch Rd
CATEGORIES:Education Event
ATTACH;FMTTYPE=image/jpeg:https://pheasantbranch.org/wp-content/uploads/2022/08/kathy-servian-Td6SfOMkTzE-unsplash.jpg
END:VEVENT
END:VCALENDAR