BEGIN:VCALENDAR
VERSION:2.0
PRODID:-//Friends of Pheasant Branch Conservancy - ECPv6.13.2.1//NONSGML v1.0//EN
CALSCALE:GREGORIAN
METHOD:PUBLISH
X-ORIGINAL-URL:https://pheasantbranch.org
X-WR-CALDESC:Events for Friends of Pheasant Branch Conservancy
REFRESH-INTERVAL;VALUE=DURATION:PT1H
X-Robots-Tag:noindex
X-PUBLISHED-TTL:PT1H
BEGIN:VTIMEZONE
TZID:America/Chicago
BEGIN:DAYLIGHT
TZOFFSETFROM:-0600
TZOFFSETTO:-0500
TZNAME:CDT
DTSTART:20230312T080000
END:DAYLIGHT
BEGIN:STANDARD
TZOFFSETFROM:-0500
TZOFFSETTO:-0600
TZNAME:CST
DTSTART:20231105T070000
END:STANDARD
END:VTIMEZONE
BEGIN:VEVENT
DTSTART;TZID=America/Chicago:20230624T080000
DTEND;TZID=America/Chicago:20230624T113000
DTSTAMP:20260425T094605
CREATED:20230610T143915Z
LAST-MODIFIED:20230610T143915Z
UID:6469-1687593600-1687606200@pheasantbranch.org
SUMMARY:Prairie Chase
DESCRIPTION:Saturday\, June 24  8:00- 11:30 AM\nLocation: Orchid Heights Park\n9th annual Prairie Chase 5K/10K. The 5K route takes participants around the main crushed limestone path through the Conservancy. \nThe 10K route will explore less-frequented corners of the Conservancy and will include trails in Dane County’s newly restored northern parcel. \n\n\n\nREGISTER HERE
URL:https://pheasantbranch.org/event/prairie-chase-2/
LOCATION:Orchid Heights Park\, 3960 Valley Ridge Rd.\, Middleton\, WI\, 53562
ATTACH;FMTTYPE=image/png:https://pheasantbranch.org/wp-content/uploads/2020/03/PC2020LOGO.png
END:VEVENT
END:VCALENDAR